BEGIN:VCALENDAR
VERSION:2.0
PRODID:-//ChamberMaster//Event Calendar 2.0//EN
METHOD:PUBLISH
X-PUBLISHED-TTL:P3D
REFRESH-INTERVAL:P3D
CALSCALE:GREGORIAN
BEGIN:VEVENT
DTSTART:20180311T180000Z
DTEND:20180311T200000Z
X-MICROSOFT-CDO-ALLDAYEVENT:FALSE
SUMMARY:Zion Lutheran School Open House
DESCRIPTION:Zion Lutheran School will be hosting an open house on Sunday\, March 11th\, from 1:00-3:00 PM.  We are now a Wisconsin Choice School (WPCP). Come and visit our classrooms\, find out more information about WPCP\, meet our principal and teachers\, and see our beautiful facility!
X-ALT-DESC;FMTTYPE=text/html:Zion Lutheran School will be hosting an open house on Sunday\, March 11th\, from 1:00-3:00 PM.&nbsp\; We are now a Wisconsin Choice School (WPCP). Come and visit our classrooms\, find out more information about WPCP\, meet our principal and teachers\, and see our beautiful facility!<br />\n&nbsp\;
LOCATION:1023 E. Capitol Drive Hartland\, WI. 53029
UID:e.522.137214
SEQUENCE:3
DTSTAMP:20260423T214044Z
URL:https://business.hartland-wi.org/events/details/zion-lutheran-school-open-house-137214
END:VEVENT

END:VCALENDAR
