BEGIN:VCALENDAR
VERSION:2.0
PRODID:-//ChamberMaster//Event Calendar 2.0//EN
METHOD:PUBLISH
X-PUBLISHED-TTL:P3D
REFRESH-INTERVAL:P3D
CALSCALE:GREGORIAN
BEGIN:VEVENT
DTSTART:20190216T160000Z
DTEND:20190216T200000Z
X-MICROSOFT-CDO-ALLDAYEVENT:FALSE
SUMMARY:Zion Family Fun Fair
DESCRIPTION:Come in out of the cold!  Zion Lutheran School invites you to attend their annual Family Fun Fair.  Enjoy games\, prizes\, bouncy slide\, Tot Lot (ages 1-3) with their own bouncy house\, hot dog lunch\, root beer floats\, and much more.  Please join us!
X-ALT-DESC;FMTTYPE=text/html:Come in out of the cold!&nbsp\; Zion Lutheran School invites you to attend their annual Family Fun Fair.&nbsp\; Enjoy games\, prizes\, bouncy slide\, Tot Lot (ages 1-3) with their own bouncy house\, hot dog lunch\, root beer floats\, and much more.&nbsp\; Please&nbsp\;join us!&nbsp\;
LOCATION:1023 E. Capitol Drive\, Hartland
UID:e.522.137190
SEQUENCE:3
DTSTAMP:20260424T160427Z
URL:https://business.hartland-wi.org/events/details/zion-family-fun-fair-137190
END:VEVENT

END:VCALENDAR
