BEGIN:VCALENDAR
VERSION:2.0
PRODID:-//ChamberMaster//Event Calendar 2.0//EN
METHOD:PUBLISH
X-PUBLISHED-TTL:P3D
REFRESH-INTERVAL:P3D
CALSCALE:GREGORIAN
BEGIN:VEVENT
DTSTART:20180518T220000Z
DTEND:20180519T013000Z
X-MICROSOFT-CDO-ALLDAYEVENT:FALSE
SUMMARY:Your Choice to Live\, Inc. to hold Second Annual Fundraiser
DESCRIPTION:Your Choice to Live\, Inc. to hold Second Annual Fundraiser May 18\n\nJohn McGivern headlines event to raise awareness in effort to fight opioid and heroin abuse\n\n \n\nWestern Lakes Golf Club will be the location for the second annual fundraiser for Your Choice to Live\, Inc.\, set for Friday\, May 18th. \n\n \n\nJohn McGivern\, Emmy Award winning actor and writer will be the keynote speaker at this event\, to include a family style fish fry\, silent auction and 50/50 raffle. Proceeds will be used toward Your Choice's 2018 goals\, including: \n\n	Provide Lunch and Learn educational sessions to local businesses\n	Continue free public and private tours of the Wake Up Call teen bedroom model in Hartland\n	Offer free in-service training to schools\, clubs and organizations to help recognize indicators of substance use/abuse\n	Purchase Narcan\, used to treat drug overdoses\, to provide to families in need\n	Continue to assist families through information\, resources and support  \n\nThe fundraiser will run from 5 to 8:30 p.m. May 18 at Western Lakes\, W287 N1963 Oakton Road in the Town of Delafield. Tickets are $75 per person\; for more information or to register\, click here.\n\n \n\nYour Choice was founded in 2009 by the Lybert family   Sandi\, Rick\, Ashleigh and Tyler. Sandi Lybert\, self-described as the mother of a recovering drug addict and alcoholic   Tyler  left her career in banking to pursue building Your Choice.  Her family\, along with other volunteers\, speaks at schools and to parents and community members about the devastating effects of drugs and alcohol.  \n\n \n\nYour Choice's mission is to provide awareness\, prevention education\, resources and support to youth\, parents\, schools and communities regarding alcohol and drug use.  \n\n \n\nOngoing goals include:\n\n\n	Raising awareness about drugs and alcohol among youth\, parents\, and the community through education on the risks of drug and alcohol and helping them work together.\n	Removing barriers to discussing the issues of drugs/alcohol and the devastating effects on young people and their families.\n	Restructuring resources to offer a variety of support\, education\, counseling and treatment.\n\n \n\nPrograms to address substance abuse among teens and young adults include the Stairway to Heroin Educational Series\, a four-part prevention plan\; Deadly Decisions and Playgrounds to Pills.  \n\n \n\nFor more information about Your Choice and its programs\, go to http://www.yourchoice-live.org.\n\nAbout Your Choice to Live\, Inc.\n\nYour Choice to Live\, Inc. is a 501(c) (3) non-profit organization that provides alcohol and drug prevention\, education\, intervention and support. Since its inception in 2009\, Your Choice has provided services to more 700 families and spoken to over 175\,000 youth in 250 middle and high schools across Wisconsin\, Illinois and Indiana.
X-ALT-DESC;FMTTYPE=text/html:<strong><span style="font-family:calibri\,sans-serif"><span style="font-size:18.0pt">Your Choice to Live\, Inc. to hold Second Annual Fundraiser May 18</span></span></strong><br />\n<em><span style="font-family:calibri\,sans-serif"><span style="font-size:14.0pt">John McGivern headlines event to raise awareness in effort to fight opioid and heroin abuse</span></span></em><br />\n&nbsp\;<br />\n<span style="font-family:calibri\,sans-serif">Western Lakes Golf Club will be the location for the second annual </span><span style="font-family:calibri\,sans-serif">fundraiser for Your Choice to Live\, Inc.\, set for Friday\, May 18<sup>th</sup>.&nbsp\;</span><br />\n&nbsp\;<br />\n<span style="font-family:calibri\,sans-serif">John McGivern\, Emmy Award winning actor and writer will be the keynote speaker at this event\, to include a family style fish fry\, silent auction and 50/50 raffle. Proceeds will be used toward Your Choice&rsquo\;s 2018 goals\, including: </span>\n<ul>\n	<li><span style="font-family:calibri\,sans-serif">Provide Lunch and Learn&nbsp\;educational sessions&nbsp\;to&nbsp\;local&nbsp\;businesses</span></li>\n	<li><span style="font-family:calibri\,sans-serif">Continue free public and private tours of the Wake Up Call teen bedroom model in Hartland</span></li>\n	<li><span style="font-family:calibri\,sans-serif">Offer free in-service training to schools\, clubs and organizations to help recognize indicators of substance use/abuse</span></li>\n	<li><span style="font-family:calibri\,sans-serif">Purchase Narcan\, used to treat drug overdoses\,&nbsp\;to provide to families in need</span></li>\n	<li><span style="font-family:calibri\,sans-serif">Continue to&nbsp\;assist families through information\, resources and support&nbsp\;&nbsp\;</span></li>\n</ul>\n<span style="font-family:calibri\,sans-serif">The fundraiser will run from 5 to 8:30 p.m. May 18 at Western Lakes\, W287 N1963 Oakton Road in the Town of Delafield. Tickets are $75&nbsp\;per person\; for more information or to register\, </span><a href="https://www.eventbrite.com/e/your-choice-2nd-annual-fundraiser-tickets-42145933622"><span style="font-family:calibri\,sans-serif">click here.</span></a><br />\n&nbsp\;<br />\n<span style="font-family:calibri\,sans-serif">Your Choice was founded in 2009 by the Lybert family &ndash\; Sandi\, Rick\, Ashleigh and Tyler. Sandi </span><span style="color:black"><span style="font-family:calibri\,sans-serif">Lybert\, self-described as the mother of a recovering drug addict and alcoholic &ndash\; Tyler &ndash\;</span></span><span style="color:black"><span style="font-family:calibri\,sans-serif">left her career in banking to pursue building Your Choice.&nbsp\; Her family\, along with other volunteers\, speaks at schools and to parents and community members </span></span><span style="color:black"><span style="font-family:calibri\,sans-serif">about the devastating effects of drugs and alcohol.&nbsp\; </span></span><br />\n&nbsp\;<br />\n<span style="font-family:calibri\,sans-serif">Your Choice&rsquo\;s mission is to provide awareness\, prevention education\, resources and support to youth\, parents\, schools and communities regarding alcohol and drug use.&nbsp\; </span><br />\n&nbsp\;<br />\n<span style="font-family:calibri\,sans-serif">Ongoing goals include:</span>\n\n<ul>\n	<li><span style="font-family:calibri\,sans-serif">Raising awareness about drugs and alcohol among youth\, parents\, and the community through education on the risks of drug and alcohol and helping them work together.</span></li>\n	<li><span style="font-family:calibri\,sans-serif">Removing barriers to discussing the issues of drugs/alcohol and the devastating effects on young people and their families.</span></li>\n	<li><span style="font-family:calibri\,sans-serif">Restructuring resources to offer a variety of support\, education\, counseling and treatment.</span></li>\n</ul>\n&nbsp\;<br />\n<span style="font-family:calibri\,sans-serif">Programs to address substance abuse among teens and young adults include the Stairway to Heroin Educational Series\, a four-part prevention plan\; Deadly Decisions and Playgrounds to Pills.&nbsp\; </span><br />\n&nbsp\;<br />\n<span style="color:black"><span style="font-family:calibri\,sans-serif">For more information about Your Choice and its programs\, go to </span></span><a href="http://www.yourchoice-live.org"><span style="font-family:calibri\,sans-serif">http://www.yourchoice-live.org</span></a><span style="color:black"><span style="font-family:calibri\,sans-serif">.</span></span><br />\n<strong><u><span style="color:black"><span style="font-family:calibri\,sans-serif">About Your Choice to Live\, Inc.</span></span></u></strong><br />\n<span style="color:black"><span style="font-family:calibri\,sans-serif">Your Choice to Live\, Inc. is a 501(c) (3) non-profit organization that provides alcohol and drug prevention\, education\, intervention and support. Since its inception in 2009\, Your Choice has provided services to more </span></span><span style="color:black"><span style="font-family:proxima-nova\,serif"><span style="font-size:10.5pt">700 families and spoken to over 175\,000 youth in 250 middle and high schools across Wisconsin\, Illinois and Indiana.</span></span></span><br />\n&nbsp\;
LOCATION:Western Lakes Golf Club W287 N1963 Oakton Road Pewaukee\, WI 53072
UID:e.522.137256
SEQUENCE:3
DTSTAMP:20260424T051048Z
URL:https://business.hartland-wi.org/events/details/your-choice-to-live-inc-to-hold-second-annual-fundraiser-137256
END:VEVENT

END:VCALENDAR
