BEGIN:VCALENDAR
VERSION:2.0
PRODID:-//ChamberMaster//Event Calendar 2.0//EN
METHOD:PUBLISH
X-PUBLISHED-TTL:P3D
REFRESH-INTERVAL:P3D
CALSCALE:GREGORIAN
BEGIN:VEVENT
DTSTART:20180719T133000Z
DTEND:20180719T143000Z
X-MICROSOFT-CDO-ALLDAYEVENT:FALSE
SUMMARY:Yoga in the Park
DESCRIPTION:Join Lake Country Racquet & Athletic Club instructor\, Kris Buffington in celebrating our rescheduled National Yoga Day in Nixon Park.  We are offering a FREE yoga class to the community.  Please bring a yoga mat\, and water.  The event is subject to weather conditions. \n\nFor more information\, contact Ann Glor\, Group Fitness Director at glora@lcclub.com.
X-ALT-DESC;FMTTYPE=text/html:Join Lake Country Racquet &amp\; Athletic Club instructor\, Kris Buffington in celebrating our rescheduled National Yoga Day in Nixon Park.&nbsp\; We are offering a FREE yoga class to the community.&nbsp\; Please bring a yoga mat\, and water.&nbsp\; The event is subject to weather conditions.&nbsp\;<br />\nFor more information\, contact Ann Glor\, Group Fitness Director at glora@lcclub.com.&nbsp\;&nbsp\;
LOCATION:Nixon Park\, Hartland\, WI
UID:e.522.137472
SEQUENCE:3
DTSTAMP:20260424T041802Z
URL:https://business.hartland-wi.org/events/details/yoga-in-the-park-137472
END:VEVENT

END:VCALENDAR
