BEGIN:VCALENDAR
VERSION:2.0
PRODID:-//ChamberMaster//Event Calendar 2.0//EN
METHOD:PUBLISH
X-PUBLISHED-TTL:P3D
REFRESH-INTERVAL:P3D
CALSCALE:GREGORIAN
BEGIN:VEVENT
DTSTART:20110516T140000Z
DTEND:20110616T230000Z
X-MICROSOFT-CDO-ALLDAYEVENT:FALSE
SUMMARY:YMCA Spring Plant Sale
DESCRIPTION:The YMCA at Pabst Farms will have a huge selection of\n\nannuals\, perennials\, hanging baskets\, vegetables\, geraniums\,planters and specialty plants!\n\n? Flats: $11.00\n\n? Geraniums: $3.00\n\n? Specialty plants: $3.00\n\n? Hanging Baskets starting at $10.00\n\n? Gift certificates also available for Mother?s Day!\n\nAll Proceeds Benefit the Strong Kids Scholarship\n\nFund. Located in Greenhouse near the Y?s West Entrance.\n\nQuestions? Call Rocky LaPlante\,(262)567-7251\, x123
X-ALT-DESC;FMTTYPE=text/html:The YMCA at Pabst Farms will have a huge selection of\n<br>annuals\, perennials\, hanging baskets\, vegetables\, geraniums\,planters and specialty plants!\n<br>? Flats: $11.00\n<br>? Geraniums: $3.00\n<br>? Specialty plants: $3.00\n<br>? Hanging Baskets starting at $10.00\n<br>? Gift certificates also available for Mother?s Day!\n<br>All Proceeds Benefit the Strong Kids Scholarship\n<br>Fund. Located in Greenhouse near the Y?s West Entrance.\n<br>Questions? Call Rocky LaPlante\,(262)567-7251\, x123
LOCATION:YMCA at Pabst Farms 1750 E. Valley Road\, Oconomowoc\, WI 53066
UID:e.522.131708
SEQUENCE:3
DTSTAMP:20260422T150703Z
URL:https://business.hartland-wi.org/events/details/ymca-spring-plant-sale-05-16-2011-131708
END:VEVENT

END:VCALENDAR
