BEGIN:VCALENDAR
VERSION:2.0
PRODID:-//ChamberMaster//Event Calendar 2.0//EN
METHOD:PUBLISH
X-PUBLISHED-TTL:P3D
REFRESH-INTERVAL:P3D
CALSCALE:GREGORIAN
BEGIN:VEVENT
DTSTART:20171014T150000Z
DTEND:20171014T200000Z
X-MICROSOFT-CDO-ALLDAYEVENT:FALSE
SUMMARY:Writing The Mindful Journey
DESCRIPTION:Join Joanne Nelson of Wake Up the Writer Within for a day of writing and mindfulness at the beautiful Cedar Valley Retreat Center in West Bend\, WI.\n\n\n\nDiscover how to awaken and transform your creativity through mindfulness practices and writing exercises that allow you to combine awareness of the present moment with writing that deepens every experience. Give your true voice space to roam and reawaken your intuitive self through guided exercises\, discussion\, and reflection. \n\n \n\nAppropriate for beginning meditators/writers as well as those with more experience\, all that is necessary is the curiosity to listen deeply to yourself and to explore your imagination. \n\n \n\nFacilitated by Joanne Nelson of Wake Up the Writer Within\, LLC.\n\nJoanne is a writer and retreat/workshop leader certified by the McLean Meditation Institute as a meditation and mindfulness teacher. Her Mindful Writing programs and Just This Day Meditation offerings allow participants to engage their creative and intuitive best selves while learning to restore and re-story.
X-ALT-DESC;FMTTYPE=text/html:Join Joanne Nelson of Wake Up the Writer Within for a day of writing and mindfulness at the beautiful Cedar Valley Retreat Center in West Bend\, WI.<br />\n<br />\n<span style="font-family:arial\,sans-serif">Discover how to awaken and transform your creativity through mindfulness practices and writing exercises that allow you to combine awareness of the present moment with writing that deepens every experience. Give your true voice space to roam and reawaken your intuitive self through guided exercises\, discussion\, and reflection. </span><br />\n&nbsp\;<br />\n<span style="font-family:arial\,sans-serif">Appropriate for beginning meditators/writers as well as those with more experience\, all that is necessary is the curiosity to listen deeply to yourself and to explore your imagination. </span><br />\n&nbsp\;<br />\n<span style="font-family:arial\,sans-serif"><span style="font-size:11.0pt">Facilitated by Joanne Nelson of Wake Up the Writer Within\, LLC.</span></span><br />\n<strong><span style="color:#666666"><span style="font-family:arial\,sans-serif"><span style="font-size:10.5pt">Joanne&nbsp\;is a writer and retreat/workshop leader certified by the McLean Meditation Institute as a meditation and mindfulness teacher. Her Mindful Writing programs and Just This Day Meditation offerings allow participants to engage their creative and intuitive best selves while learning to restore and re-story.</span></span></span></strong><br />\n&nbsp\;
LOCATION:5349 Country Rd. D West Bend\, WI 53090
UID:e.522.136803
SEQUENCE:3
DTSTAMP:20260423T131657Z
URL:https://business.hartland-wi.org/events/details/writing-the-mindful-journey-136803
END:VEVENT

END:VCALENDAR
