BEGIN:VCALENDAR
VERSION:2.0
PRODID:-//ChamberMaster//Event Calendar 2.0//EN
METHOD:PUBLISH
X-PUBLISHED-TTL:P3D
REFRESH-INTERVAL:P3D
CALSCALE:GREGORIAN
BEGIN:VEVENT
DTSTART:20181024T223000Z
DTEND:20181025T000000Z
X-MICROSOFT-CDO-ALLDAYEVENT:FALSE
SUMMARY:Woman's Club of Hartland Meet and Greet
DESCRIPTION:The Woman's Club of Hartland will be holding its annual "Meet and Greet" at Beer Snobs in Hartland.  Club members would like to meet all the women in the area who enjoy getting together to have fun and give back to their community.  Call Renee Rasmussen at 262-367-9564 to RSVP.
X-ALT-DESC;FMTTYPE=text/html:The Woman&#39\;s Club of Hartland will be holding its annual &quot\;Meet and Greet&quot\; at Beer Snobs in Hartland.&nbsp\; Club members would like to meet all the women in the area who enjoy getting together to have fun and give back to their community.&nbsp\; Call Renee Rasmussen at 262-367-9564 to RSVP.
LOCATION:Beer Snobs 122 Cottonwood Avenue Hartland\, WI 53029
UID:e.522.137607
SEQUENCE:3
DTSTAMP:20260424T091524Z
URL:https://business.hartland-wi.org/events/details/woman-s-club-of-hartland-meet-and-greet-137607
END:VEVENT

END:VCALENDAR
