BEGIN:VCALENDAR
VERSION:2.0
PRODID:-//ChamberMaster//Event Calendar 2.0//EN
METHOD:PUBLISH
X-PUBLISHED-TTL:P3D
REFRESH-INTERVAL:P3D
CALSCALE:GREGORIAN
BEGIN:VEVENT
DTSTART:20130921T150000Z
DTEND:20130921T200000Z
X-MICROSOFT-CDO-ALLDAYEVENT:FALSE
SUMMARY:Wisconsin Upside Down Buddy Walk
DESCRIPTION:The money raised by the walk supports the missions of Wisconsin Upside Down to benefit people with Down syndrome and their communities.
X-ALT-DESC;FMTTYPE=text/html:The money raised by the walk supports the missions of Wisconsin Upside Down to benefit people with Down syndrome and their communities.
LOCATION:Meet at Nixon Park Walking route through downtown Hartland
UID:e.522.132760
SEQUENCE:3
DTSTAMP:20260420T123408Z
URL:https://business.hartland-wi.org/events/details/wisconsin-upside-down-buddy-walk-09-21-2013-132760
END:VEVENT

END:VCALENDAR
