BEGIN:VCALENDAR
VERSION:2.0
PRODID:-//ChamberMaster//Event Calendar 2.0//EN
METHOD:PUBLISH
X-PUBLISHED-TTL:P3D
REFRESH-INTERVAL:P3D
CALSCALE:GREGORIAN
BEGIN:VEVENT
DTSTART:20170919T210000Z
DTEND:20170919T230000Z
X-MICROSOFT-CDO-ALLDAYEVENT:FALSE
SUMMARY:Wisconsin Farm Fresh Feast
DESCRIPTION:Off the Grill \n\nWings\, brats\, potato pancakes and s'more pie\n\n\n\nAll proceeds benefit the Alzheimer's Association\n\n\n\nRSVP or questions?  Contact Betty at 262-367-2975
X-ALT-DESC;FMTTYPE=text/html:<u><strong>Off the Grill&nbsp\;</strong></u><br />\nWings\, brats\, potato pancakes and s&#39\;more pie<br />\n<br />\n<strong><em>All proceeds benefit the Alzheimer&#39\;s Association<br />\n<br />\nRSVP or questions? &nbsp\;Contact Betty at 262-367-2975</em></strong><br />\n<br />\n<br />\n&nbsp\;
LOCATION:Heritage Lake Country 2975 Village Square Drive Hartland\, Wi 53029
UID:e.522.137005
SEQUENCE:3
DTSTAMP:20260423T112934Z
URL:https://business.hartland-wi.org/events/details/wisconsin-farm-fresh-feast-137005
END:VEVENT

END:VCALENDAR
