BEGIN:VCALENDAR
VERSION:2.0
PRODID:-//ChamberMaster//Event Calendar 2.0//EN
METHOD:PUBLISH
X-PUBLISHED-TTL:P3D
REFRESH-INTERVAL:P3D
CALSCALE:GREGORIAN
BEGIN:VEVENT
DTSTART:20170921T210000Z
DTEND:20170921T230000Z
X-MICROSOFT-CDO-ALLDAYEVENT:FALSE
SUMMARY:Wisconsin Farm Fresh Feast
DESCRIPTION:Picnic in the Park\n\n\n\nHot dogs\, burgers\, potato and macaroni salads\n\n\n\nProceeds to benefit the Alzheimer's Association\n\n\n\nRSVP or questions???  Contact Betty at 262-367-2975
X-ALT-DESC;FMTTYPE=text/html:Picnic in the Park<br />\n<br />\nHot dogs\, burgers\, potato and macaroni salads<br />\n<br />\n<strong><em>Proceeds to benefit the Alzheimer&#39\;s Association</em><br />\n<br />\nRSVP or questions??? &nbsp\;Contact Betty at 262-367-2975</strong><br />\n&nbsp\;
LOCATION:2975 Village Square Drive Hartland\, Wi 53029
UID:e.522.137007
SEQUENCE:3
DTSTAMP:20260423T112951Z
URL:https://business.hartland-wi.org/events/details/wisconsin-farm-fresh-feast-09-21-2017-137007
END:VEVENT

END:VCALENDAR
