BEGIN:VCALENDAR
VERSION:2.0
PRODID:-//ChamberMaster//Event Calendar 2.0//EN
METHOD:PUBLISH
X-PUBLISHED-TTL:P3D
REFRESH-INTERVAL:P3D
CALSCALE:GREGORIAN
BEGIN:VEVENT
DTSTART:20170920T210000Z
DTEND:20170920T230000Z
X-MICROSOFT-CDO-ALLDAYEVENT:FALSE
SUMMARY:Wisconsin Farm Fresh Feast
DESCRIPTION:Vegetarian Feast\n\n\n\nVegetarian shepard's pie\, meatless chili\, berry crisp\n\n\n\nAll proceeds benefit the Alzheimer's Association\n\n\n\nRVSP or questions???  Contact Betty at 262-367-2975
X-ALT-DESC;FMTTYPE=text/html:<u><strong>Vegetarian Feast</strong></u><br />\n<br />\nVegetarian shepard&#39\;s pie\, meatless chili\, berry crisp<br />\n<br />\n<em><strong>All proceeds benefit the Alzheimer&#39\;s Association<br />\n<br />\nRVSP or questions??? &nbsp\;Contact Betty at 262-367-2975</strong></em>
LOCATION:2975 Village Square Drive Hartland\, Wi 53029
UID:e.522.137006
SEQUENCE:3
DTSTAMP:20260423T112958Z
URL:https://business.hartland-wi.org/events/details/wisconsin-farm-fresh-feast-09-20-2017-137006
END:VEVENT

END:VCALENDAR
