BEGIN:VCALENDAR
VERSION:2.0
PRODID:-//ChamberMaster//Event Calendar 2.0//EN
METHOD:PUBLISH
X-PUBLISHED-TTL:P3D
REFRESH-INTERVAL:P3D
CALSCALE:GREGORIAN
BEGIN:VEVENT
DTSTART:20120801T220000Z
DTEND:20120801T220000Z
X-MICROSOFT-CDO-ALLDAYEVENT:FALSE
SUMMARY:Weissgerber's Seven Seas Outdoor Shrimp Boil
DESCRIPTION:Annual outdoor shrimp boil at Weissgerber's Seven Seas Restaurant.
X-ALT-DESC;FMTTYPE=text/html:<span style="font-size: 14px"><span style="font-family: comic sans ms"><strong>Annual outdoor shrimp boil at Weissgerber&#39\;s Seven Seas Restaurant.</strong></span></span>
LOCATION:Seven Seas Restaurant 1807 Nagawicka Road Hartland
UID:e.522.132003
SEQUENCE:3
DTSTAMP:20260421T112244Z
URL:https://business.hartland-wi.org/events/details/weissgerber-s-seven-seas-outdoor-shrimp-boil-08-01-2012-132003
END:VEVENT

END:VCALENDAR
