BEGIN:VCALENDAR
VERSION:2.0
PRODID:-//ChamberMaster//Event Calendar 2.0//EN
METHOD:PUBLISH
X-PUBLISHED-TTL:P3D
REFRESH-INTERVAL:P3D
CALSCALE:GREGORIAN
BEGIN:VEVENT
DTSTART:20180912T230000Z
DTEND:20180913T010000Z
X-MICROSOFT-CDO-ALLDAYEVENT:FALSE
SUMMARY:Weight Loss Options: Updates in Bariatric Surgery
DESCRIPTION:Weight Loss Options\n\nUpdates in Bariatric Surgery\n\n\n\nJoin Us and Let Us Help You Through Your Journey\n\n\n\nIf you have tried traditional weight loss methods and are struggling to loose a substantial amount of weight\, surgery may be an option for you.  Obesity can put you at risk for serious health related diseases\, most of which are preventable.\n\n\n\nJoin Peter Garza\, MD\, bariatric surgeon\, for a discussion on the latest minimally invasive surgical options.\n\nSeptember 12th\, 6-8 p.m.\n\nOctober 2\, 6-8 p.m.\n\nNovember 20\, 6-8 p.m.\n\nDecember 4\, 6-8 p..\n\nAurora Medical Center Summit\n\n36500 Auror Drive\, Summit Wi\n\nDraper Hall\n\n\n\nTo register call:  262-434-7277 or visit aurora.org/events and search "bariatric"
X-ALT-DESC;FMTTYPE=text/html:<strong>Weight Loss Options<br />\nUpdates in Bariatric Surgery<br />\n<br />\nJoin Us and Let Us Help You Through Your Journey<br />\n<br />\nIf you have tried traditional weight loss methods and are struggling to loose a substantial amount of weight\, surgery may be an option for you.&nbsp\; Obesity can put you at risk for serious health related diseases\, most of which are preventable.<br />\n<br />\nJoin Peter Garza\, MD\, bariatric surgeon\, for a discussion on the latest minimally invasive surgical options.<br />\nSeptember 12th\, 6-8 p.m.<br />\nOctober 2\, 6-8 p.m.<br />\nNovember 20\, 6-8 p.m.<br />\nDecember 4\, 6-8 p..<br />\nAurora Medical Center Summit<br />\n36500 Auror Drive\, Summit Wi<br />\nDraper Hall<br />\n<br />\nTo register call:&nbsp\; 262-434-7277 or visit aurora.org/events and search &quot\;bariatric&quot\;</strong>
LOCATION:Aurora Medical Center Summit 36500 Aurora Drive Summit\, WI
UID:e.522.137513
SEQUENCE:3
DTSTAMP:20260424T073219Z
URL:https://business.hartland-wi.org/events/details/weight-loss-options-updates-in-bariatric-surgery-137513
END:VEVENT

END:VCALENDAR
