BEGIN:VCALENDAR
VERSION:2.0
PRODID:-//ChamberMaster//Event Calendar 2.0//EN
METHOD:PUBLISH
X-PUBLISHED-TTL:P3D
REFRESH-INTERVAL:P3D
CALSCALE:GREGORIAN
BEGIN:VEVENT
DTSTART:20140312T220000Z
DTEND:20140313T010000Z
X-MICROSOFT-CDO-ALLDAYEVENT:FALSE
SUMMARY:Wee Know School Open House - "A Great Way to 4K"
DESCRIPTION:Wee Know School - OPEN HOUSE\n\n"A Great Way to 4K"\n\nVisit Classrooms & Meet our Teachers!
X-ALT-DESC;FMTTYPE=text/html:<div style="text-align: center\;"><br />\n<strong><span style="color: rgb(0\, 0\, 255)\;">Wee Know School - OPEN HOUSE<br />\n&quot\;A Great Way to 4K&quot\;<br />\n<em>Visit Classrooms &amp\; Meet our Teachers!</em></span></strong><br />\n&nbsp\;</div>\n
LOCATION:Wee Know School 3325 Highway 83 Hartland\, WI 53029
UID:e.522.132825
SEQUENCE:3
DTSTAMP:20260420T162615Z
URL:https://business.hartland-wi.org/events/details/wee-know-school-open-house-a-great-way-to-4k-03-12-2014-132825
END:VEVENT

END:VCALENDAR
