BEGIN:VCALENDAR
VERSION:2.0
PRODID:-//ChamberMaster//Event Calendar 2.0//EN
METHOD:PUBLISH
X-PUBLISHED-TTL:P3D
REFRESH-INTERVAL:P3D
CALSCALE:GREGORIAN
BEGIN:VEVENT
DTSTART:20181218T230000Z
DTEND:20181219T010000Z
X-MICROSOFT-CDO-ALLDAYEVENT:FALSE
SUMMARY:Waukesha County: The Latest in Frauds\, Identity Theft & Scams
DESCRIPTION:Summit Community Health Beat\n\nWaukesha County:  The Latest in Frauds\, Identity Theft & Scams\n\nBack by popular demand!\n\nLearn the latest trends for 2018!\n\n\n\nFraud is as high as it's ever been according to the Waukesha County Sheriff's Office.  Join Dectective's Christy Bahr and Tim Loberg for a discussion about the latest scams in Waukesha County.\n\n\n\nRegistration is required:  888-863-5502 or contact Trish Golden at 262-434-1248
X-ALT-DESC;FMTTYPE=text/html:<div style="text-align: center\;"><strong>Summit Community Health Beat<br />\nWaukesha County:&nbsp\; The Latest in Frauds\, Identity Theft &amp\; Scams<br />\nBack by popular demand!<br />\nLearn the latest trends for 2018!<br />\n<br />\nFraud is as high as it&#39\;s ever been according to the Waukesha County Sheriff&#39\;s Office.&nbsp\; Join Dectective&#39\;s Christy Bahr and Tim Loberg for a discussion about the latest scams in Waukesha County.<br />\n<br />\nRegistration is required:&nbsp\; 888-863-5502 or contact Trish Golden at 262-434-1248</strong><br />\n&nbsp\;</div>\n
LOCATION:Aurora Medical Center Summit Draper Hall 36500 Aurora Drive Summit\, WI
UID:e.522.137479
SEQUENCE:3
DTSTAMP:20260424T140736Z
URL:https://business.hartland-wi.org/events/details/waukesha-county-the-latest-in-frauds-identity-theft-scams-137479
END:VEVENT

END:VCALENDAR
