BEGIN:VCALENDAR
VERSION:2.0
PRODID:-//ChamberMaster//Event Calendar 2.0//EN
METHOD:PUBLISH
X-PUBLISHED-TTL:P3D
REFRESH-INTERVAL:P3D
CALSCALE:GREGORIAN
BEGIN:VEVENT
DTSTART:20120428T150000Z
DTEND:20120428T190000Z
X-MICROSOFT-CDO-ALLDAYEVENT:FALSE
SUMMARY:Waukesha County Drug Collection & Awareness
DESCRIPTION:Waukesha County Drug Collection & Awareness\n\n	Saturday\, April 28\, 2012\n\n	10:00 am to 2:00 pm\n\n	Reduce substance abuse\, prevent childhood poisonings & help protect our environment.\n\n	\n\n	Drug Collection & Awareness for Waukesha County Residents\n\n	Click Here for Drug Collection Locations & Times\n\n	\n\n	For more information visit www.waukeshacounty.gov/drugcollection
X-ALT-DESC;FMTTYPE=text/html:<p style="text-align: center">\n	<span style="color: #0000cd"><strong><span style="font-size: 14px"><span style="font-family: courier new">Waukesha County Drug Collection &amp\; Awareness</span></span></strong></span></p>\n<p style="text-align: center">\n	<span style="color: #0000cd"><strong><span style="font-size: 14px"><span style="font-family: courier new">Saturday\, April 28\, 2012</span></span></strong></span></p>\n<p style="text-align: center">\n	<span style="color: #0000cd"><strong><span style="font-size: 14px"><span style="font-family: courier new">10:00 am to 2:00 pm</span></span></strong></span></p>\n<p style="text-align: center">\n	Reduce substance abuse\, prevent childhood poisonings &amp\; help protect our environment.<br />\n	<br />\n	Drug Collection &amp\; Awareness for Waukesha County Residents<br />\n	<a href="http://cloud.chambermaster.com/userfiles/UserFiles/chambers/522/File/WCDrugCollectionFlyer2012.pdf">Click Here for Drug Collection Locations &amp\; Times</a><br />\n	<br />\n	For more information visit www.waukeshacounty.gov/drugcollection<br />\n	<br />\n	<br />\n	&nbsp\;</p>\n
LOCATION:Various Check flyer for details
UID:e.522.131939
SEQUENCE:3
DTSTAMP:20260421T180043Z
URL:https://business.hartland-wi.org/events/details/waukesha-county-drug-collection-awareness-04-28-2012-131939
END:VEVENT

END:VCALENDAR
