BEGIN:VCALENDAR
VERSION:2.0
PRODID:-//ChamberMaster//Event Calendar 2.0//EN
METHOD:PUBLISH
X-PUBLISHED-TTL:P3D
REFRESH-INTERVAL:P3D
CALSCALE:GREGORIAN
BEGIN:VEVENT
DTSTART:20181107T210000Z
DTEND:20181108T000000Z
X-MICROSOFT-CDO-ALLDAYEVENT:FALSE
SUMMARY:Virtual Dementia Tour and Open House
DESCRIPTION:Drop by Heritage Lake Country for our Open House. We will be featuring a complimentary gourmet caramel apple making station\, Door Prizes\, and tours of Heritage Lake Country Community. Aseracare will be presenting a Virtual Demenita Experience\, where you can experience what life for a person living with dementia is like. Presentation takes around 15 minutes. No need to sign up\, just drop by anytime 3pm-6pm!
X-ALT-DESC;FMTTYPE=text/html:Drop by Heritage Lake Country for our Open House. We will be featuring a complimentary gourmet caramel apple making station\, Door Prizes\, and tours of Heritage Lake Country Community. Aseracare will be presenting a Virtual Demenita Experience\, where you can experience what life for a person living with dementia is like. Presentation takes around 15 minutes. No need to sign up\, just drop by anytime 3pm-6pm!&nbsp\;
LOCATION:Heritage Lake Country 2975 Village Square Drive\, Hartland\, WI 53029
UID:e.522.137609
SEQUENCE:3
DTSTAMP:20260424T103101Z
URL:https://business.hartland-wi.org/events/details/virtual-dementia-tour-and-open-house-137609
END:VEVENT

END:VCALENDAR
