BEGIN:VCALENDAR
VERSION:2.0
PRODID:-//ChamberMaster//Event Calendar 2.0//EN
METHOD:PUBLISH
X-PUBLISHED-TTL:P3D
REFRESH-INTERVAL:P3D
CALSCALE:GREGORIAN
BEGIN:VEVENT
DTSTART;VALUE=DATE:20170701
DTEND;VALUE=DATE:20170702
TRANSP:TRANSPARENT
X-MICROSOFT-CDO-ALLDAYEVENT:TRUE
SUMMARY:Village of Hartland's 125th Anniversary Celebration
DESCRIPTION:Village of Hartland's 125th Anniversary Celebration\n\n\n\n5K Family Run/Walk\n\nPie Baking Contest\n\nBounce Houses\n\nOld fashioned games\n\nPopcorn and Ice Cream Social hosted by the Hartland Fire Department\n\nAnd more.........\n\n \n\nVisit http://www.villageofhartland.com/index.aspx?nid=501 for more information
X-ALT-DESC;FMTTYPE=text/html:<div><br />\n<span style="color:#0000CD\;"><strong><u>Village of Hartland&#39\;s&nbsp\;125th Anniversary Celebration</u><br />\n<br />\n5K Family Run/Walk<br />\nPie Baking Contest<br />\nBounce Houses<br />\nOld fashioned games<br />\nPopcorn and Ice Cream Social hosted by the Hartland Fire Department<br />\nAnd more.........</strong></span><br />\n&nbsp\;</div>\n\n<div style="text-align: center\;"><span style="color:#FF0000\;">Visit </span><span style="font-family:calibri\,sans-serif\;"><span style="font-size:11.0pt\;"><a href="http://www.villageofhartland.com/index.aspx?nid=501">http://www.villageofhartland.com/index.aspx?nid=501</a></span></span><span style="color:#FF0000\;">&nbsp\;for more information</span></div>\n
LOCATION:
UID:e.522.136685
SEQUENCE:3
DTSTAMP:20260423T081952Z
URL:https://business.hartland-wi.org/events/details/village-of-hartland-s-125th-anniversary-celebration-136685
END:VEVENT

END:VCALENDAR
