BEGIN:VCALENDAR
VERSION:2.0
PRODID:-//ChamberMaster//Event Calendar 2.0//EN
METHOD:PUBLISH
X-PUBLISHED-TTL:P3D
REFRESH-INTERVAL:P3D
CALSCALE:GREGORIAN
BEGIN:VEVENT
DTSTART:20130220T140000Z
DTEND:20130220T143000Z
X-MICROSOFT-CDO-ALLDAYEVENT:FALSE
SUMMARY:Updates on County Issues from Waukesha County Board Chair Paul L. Decker
DESCRIPTION:Updates on County Issues from Waukesha County Board Chair Paul L. Decker\n\n\n\nName:  Updates on Waukesha County Issues\n\n\n\nDate: Wednesday\, February 20. 2013\n\n\n\nTime: 8:00 am - 8:30 am\n\n\n\nRegistration: Register online or contact the Hartland Chamber chamberdirector@hartland-wi.org\n\n\n\nDescription:  Join us for coffee and an informal meeting with Waukesha County Chair Paul Decker who will present an update on the State of Waukesha County.  Take this opportunity to learn more about what impact this might have on where you work and live.
X-ALT-DESC;FMTTYPE=text/html:<strong><span style="font-size: 14px">Updates on County Issues from&nbsp\;Waukesha County Board Chair Paul L. Decker</span><br />\n<br />\n<span style="font-size: 12px">Name:&nbsp\;</span></strong> Updates on Waukesha County Issues<br />\n<br />\n<span style="font-size: 12px"><strong>Date</strong></span>: Wednesday\, February 20. 2013<br />\n<br />\n<span style="font-size: 12px"><strong>Time:</strong></span> 8:00 am - 8:30 am<br />\n<br />\n<span style="font-size: 12px"><strong>Registration</strong></span>: Register online or contact the Hartland Chamber chamberdirector@hartland-wi.org<br />\n<br />\n<span style="font-size: 12px"><strong>Description:</strong></span>&nbsp\; Join us for coffee and an informal meeting with Waukesha County Chair Paul Decker who will present an update on the State of Waukesha County.&nbsp\; Take this opportunity to learn more about what impact this might have on where you work and live.<br />\n<br />\n
LOCATION:Hartland Music Center 1125 James Drive-Hartland (off Hwy 83)
UID:e.522.132323
SEQUENCE:3
DTSTAMP:20260421T004617Z
URL:https://business.hartland-wi.org/events/details/updates-on-county-issues-from-waukesha-county-board-chair-paul-l-decker-02-20-2013-132323
END:VEVENT

END:VCALENDAR
