BEGIN:VCALENDAR
VERSION:2.0
PRODID:-//ChamberMaster//Event Calendar 2.0//EN
METHOD:PUBLISH
X-PUBLISHED-TTL:P3D
REFRESH-INTERVAL:P3D
CALSCALE:GREGORIAN
BEGIN:VEVENT
DTSTART;VALUE=DATE:20170804
DTEND;VALUE=DATE:20170807
TRANSP:TRANSPARENT
X-MICROSOFT-CDO-ALLDAYEVENT:TRUE
SUMMARY:Up\, Up and Away 58th Wisconsin Square & Round Dance Convention
DESCRIPTION:Up\, Up and Away\n\n58th Wisconsin Square & Round Dance Convention\n\n\n\nAugust 4-6\, 2017\n\nLake Country Lutheran High School\n\n401 Campus Drive\, Hartland
X-ALT-DESC;FMTTYPE=text/html:<div style="text-align: center\;"><span style="text-align: center\; font-size: 14px\;"><span style="color: rgb(0\, 0\, 205)\;"><strong>Up\, Up and Away</strong><br />\n58th&nbsp\;Wisconsin Square &amp\; Round Dance Convention</span><br />\n<br />\nAugust 4-6\, 2017<br />\nLake Country Lutheran High School</span><br />\n<span style="text-align: center\;">401 Campus Drive\,&nbsp\;</span>Hartland</div>\n
LOCATION:Lake Country Lutheran High School 401 Campus Drive\, Hartland
UID:e.522.136684
SEQUENCE:3
DTSTAMP:20260423T101140Z
URL:https://business.hartland-wi.org/events/details/up-up-and-away-58th-wisconsin-square-round-dance-convention-136684
END:VEVENT

END:VCALENDAR
