BEGIN:VCALENDAR
VERSION:2.0
PRODID:-//ChamberMaster//Event Calendar 2.0//EN
METHOD:PUBLISH
X-PUBLISHED-TTL:P3D
REFRESH-INTERVAL:P3D
CALSCALE:GREGORIAN
BEGIN:VEVENT
DTSTART:20190219T230000Z
DTEND:20190220T010000Z
X-MICROSOFT-CDO-ALLDAYEVENT:FALSE
SUMMARY:Understanding the Aging Process
DESCRIPTION:Understanding the aging Process\n\nWe know that aging will likely cause us to develop wrinkles and gray hair.  These are external signs of a series of processses going on within our bodies.  Join Carol Lagerman NP\, to learn what kind of changes you can expect as you continue aging and what you can do to promote good health at any age.\n\n\n\nRegistration is required by phoning:  888-863-5502 or contact Trish Golden at 262-434-1248\n\nTuesday\, February 19\, 2019\n\n5 to 7 p.m.\n\n\n\nRegistration/light sandwich:  5 to 5:30\n\nPresentation:  5:30 to 7:00\n\n\n\nAurora Medical Center Summit\n\nDraper Hall\n\n36500 Aurora Drive\n\nSummit\, WI
X-ALT-DESC;FMTTYPE=text/html:<div style="text-align: center\;"><strong>Understanding the aging Process<br />\nWe know that aging will likely cause us to develop wrinkles and gray hair.&nbsp\; These are external signs of a series of processses going on within our bodies.&nbsp\; Join Carol Lagerman NP\, to learn what kind of changes you can expect as you continue aging and what you can do to promote good health at any age.<br />\n<br />\nRegistration is required by phoning:&nbsp\; 888-863-5502 or contact Trish Golden at 262-434-1248<br />\nTuesday\, February 19\, 2019<br />\n5 to 7 p.m.<br />\n<br />\nRegistration/light sandwich:&nbsp\; 5 to 5:30<br />\nPresentation:&nbsp\; 5:30 to 7:00<br />\n<br />\nAurora Medical Center Summit<br />\nDraper Hall<br />\n36500 Aurora Drive<br />\nSummit\, WI</strong><br />\n&nbsp\;</div>\n
LOCATION:Aurora Medical Center Summit 36500 Aurora Drive Summit\, WI
UID:e.522.137608
SEQUENCE:3
DTSTAMP:20260424T160253Z
URL:https://business.hartland-wi.org/events/details/understanding-the-aging-process-137608
END:VEVENT

END:VCALENDAR
