BEGIN:VCALENDAR
VERSION:2.0
PRODID:-//ChamberMaster//Event Calendar 2.0//EN
METHOD:PUBLISH
X-PUBLISHED-TTL:P3D
REFRESH-INTERVAL:P3D
CALSCALE:GREGORIAN
BEGIN:VEVENT
DTSTART:20180605T130000Z
DTEND:20180605T150000Z
X-MICROSOFT-CDO-ALLDAYEVENT:FALSE
SUMMARY:Understanding Depression and Anxiety: Summit Senior Breakfast Club
DESCRIPTION:Understanding Depression and Anxiety\n\nSummit Senior Breakfast Club\n\n\n\nDepression is a common condition affecting more than 1 out of 20 Americans 12 years of age and older according to the CDC.  It is a disease that can affect a person of any age\, race or social standing.  Depression is a serious medical illness and is characterized by persistent sadness and sometimes irritability.  Depression can cause suffering for depressed indivduals and can also have negative effects on their families and the communities in which they live.\n\n\n\nJoin Karen Fischer\, with the Aurora Psychiatric Hospital\, Pschotherapy Program and learn valuable information that can guide you through mental illness\, prevention and treatment programs.\n\n\n\nRegistration is required by phoning:  888-863-5502 or contact Trish Golden at 262-434-1248
X-ALT-DESC;FMTTYPE=text/html:<div style="text-align: center\;"><strong>Understanding Depression and Anxiety<br />\nSummit Senior Breakfast Club<br />\n<br />\nDepression is a common condition affecting more than 1 out of 20 Americans 12 years of age and older according to the CDC.&nbsp\; It is a disease that can affect a person of any age\, race or social standing.&nbsp\; Depression is a serious medical illness and is characterized by persistent sadness and sometimes irritability.&nbsp\; Depression can cause suffering for depressed indivduals and can also have negative effects on their families and the communities in which they live.<br />\n<br />\nJoin Karen Fischer\, with the Aurora Psychiatric Hospital\, Pschotherapy Program and learn valuable information that can guide you through mental illness\, prevention and treatment programs.<br />\n<br />\nRegistration is required by phoning:&nbsp\; 888-863-5502 or contact Trish Golden at 262-434-1248</strong><br />\n<br />\n&nbsp\;</div>\n
LOCATION:Aurora Medical Center Summit Draper Hall 36500 Aurora Drive Summit\, WI
UID:e.522.137198
SEQUENCE:3
DTSTAMP:20260424T145656Z
URL:https://business.hartland-wi.org/events/details/understanding-depression-and-anxiety-summit-senior-breakfast-club-137198
END:VEVENT

END:VCALENDAR
