BEGIN:VCALENDAR
VERSION:2.0
PRODID:-//ChamberMaster//Event Calendar 2.0//EN
METHOD:PUBLISH
X-PUBLISHED-TTL:P3D
REFRESH-INTERVAL:P3D
CALSCALE:GREGORIAN
BEGIN:VEVENT
DTSTART:20110928T233000Z
DTEND:20110929T003000Z
X-MICROSOFT-CDO-ALLDAYEVENT:FALSE
SUMMARY:Ugandan Orphans Choir
DESCRIPTION:The Ugandan Orphans Choir is from Childcare\n\nWorldwide's children's villages on the Ssese Islands\n\nlocated on Uganda's beautiful Lake Victoria. These\n\ntalented children are known for their amazing\n\nabilities to sing and dance. You are invited to come\n\nand experience the music of Africa - we are sure\n\nyou will be delighted by this inspiring performance.
X-ALT-DESC;FMTTYPE=text/html:The Ugandan Orphans Choir is from Childcare<br />\nWorldwide&rsquo\;s children&rsquo\;s villages on the Ssese Islands<br />\nlocated on Uganda&rsquo\;s beautiful Lake Victoria. These<br />\ntalented children are known for their amazing<br />\nabilities to sing and dance. You are invited to come<br />\nand experience the music of Africa - we are sure<br />\nyou will be delighted by this inspiring performance.
LOCATION:Our Savior's Ev. Lutheran Church
UID:e.522.131770
SEQUENCE:3
DTSTAMP:20260422T111844Z
URL:https://business.hartland-wi.org/events/details/ugandan-orphans-choir-09-28-2011-131770
END:VEVENT

END:VCALENDAR
