BEGIN:VCALENDAR
VERSION:2.0
PRODID:-//ChamberMaster//Event Calendar 2.0//EN
METHOD:PUBLISH
X-PUBLISHED-TTL:P3D
REFRESH-INTERVAL:P3D
CALSCALE:GREGORIAN
BEGIN:VEVENT
DTSTART;VALUE=DATE:20110103
DTEND;VALUE=DATE:20110104
TRANSP:TRANSPARENT
X-MICROSOFT-CDO-ALLDAYEVENT:TRUE
SUMMARY:To The Pointe Open House
DESCRIPTION:To The Pointe Performing Arts School is celebrating its new branch in Johnson Creek.  Join us for an Open House\, enjoy refreshments\, sample classes\, and demonstrations
X-ALT-DESC;FMTTYPE=text/html:To The Pointe Performing Arts School is celebrating its new branch in Johnson Creek.  Join us for an Open House\, enjoy refreshments\, sample classes\, and demonstrations
LOCATION:540 Village Walk Lane\, Unit F in Johnson Creek WI. Located just south if I94 behind Culvers
UID:e.522.131271
SEQUENCE:3
DTSTAMP:20260423T000910Z
URL:https://business.hartland-wi.org/events/details/to-the-pointe-open-house-01-03-2011-131271
END:VEVENT

END:VCALENDAR
