BEGIN:VCALENDAR
VERSION:2.0
PRODID:-//ChamberMaster//Event Calendar 2.0//EN
METHOD:PUBLISH
X-PUBLISHED-TTL:P3D
REFRESH-INTERVAL:P3D
CALSCALE:GREGORIAN
BEGIN:VEVENT
DTSTART:20131106T143000Z
DTEND:20131106T160000Z
X-MICROSOFT-CDO-ALLDAYEVENT:FALSE
SUMMARY:Tiny Bites and Tidbits
DESCRIPTION:TINY BITES and TIDBITS\n\n	 Hartland Chamber of Commerce\n\n	Monthly Morning Workshop\n\n	\n\n	Join us the first Wednesday of each month for bagels and coffee\, and a chance to learn a bit more about how to navigate web-based social networks\, content platforms and web-based media marketing.  Each month will focus on a different topic.\n\n	\n\n	Guest speakers : From NeoCloud Marketing\n\n	                               New Media & Internet Marketing Specialists\n\n	\n\n	This Month: Digital Marketing Trends\n\n	"Did you know that your business has an online presence even if you don't think it does? Join NeoCloud Marketing for this engaging workshop on how to take advantage for the most current trends in digital marketing. What things does every web site need heading into 2014? Do I really need to be on all social media channels\, or are some becoming more dominant than others? How do I get my business ranked for relevant terms within the search engines? Are there any cool\, new apps that will help my business? Join us to learn the answers to those questions and more . . ."\n\n	\n\n	All workshops are held at the following location unless otherwise noted:\n\n	Hartland Public Library\n\n	110 E. Park Avenue\n\n	Hartland\, WI 53029\n\n	\n\n	Registration:   $10 for chamber members/ $15 for non-members\n\n	Register online or email chamberdirector@hartland-wi.org.
X-ALT-DESC;FMTTYPE=text/html:<p style="text-align: center\;">\n	<span style="font-family: comic sans ms\;"><span style="font-size: 14px\;"><strong><span style="color: rgb(0\, 0\, 205)\;"><span style="font-size: 16px\;">TINY BITES and TIDBITS</span></span><br />\n	&nbsp\;<span style="font-size: 12px\;">Hartland Chamber of Commerce<br />\n	Monthly Morning Workshop</span></strong></span></span></p>\n<p>\n	<br />\n	Join us the first Wednesday of each month for bagels and coffee\, and a chance to learn a bit more about how to navigate web-based social networks\, content platforms and web-based media marketing.&nbsp\; Each month will focus on a different topic.<br />\n	<br />\n	<strong>Guest speakers :&nbsp\;</strong>From NeoCloud Marketing<br />\n	&nbsp\;&nbsp\;&nbsp\;&nbsp\;&nbsp\;&nbsp\;&nbsp\;&nbsp\;&nbsp\;&nbsp\;&nbsp\;&nbsp\;&nbsp\;&nbsp\;&nbsp\;&nbsp\;&nbsp\;&nbsp\;&nbsp\;&nbsp\;&nbsp\;&nbsp\;&nbsp\;&nbsp\;&nbsp\;&nbsp\;&nbsp\;&nbsp\;&nbsp\;&nbsp\; <span style="font-size: 11px\;">New Media &amp\; Internet Marketing Specialists</span><br />\n	<br />\n	<strong>This Month:</strong>&nbsp\;<strong><em>Digital Marketing Trends</em></strong><br />\n	<em><span style="font-size: 12px\;"><span style="color: black\; mso-fareast-font-family: &quot\;Times New Roman&quot\;\; mso-ansi-language: EN-US\; mso-fareast-language: EN-US\; mso-bidi-language: AR-SA\; mso-bidi-font-family: &quot\;Times New Roman&quot\;\;">&quot\;Did you know that your business has an online presence even if you don&#39\;t think it does? Join NeoCloud Marketing for this engaging workshop on how to take advantage for the most current trends in digital marketing. What things does every web site need heading into 2014? Do I really need to be on all social media channels\, or are some becoming more dominant than others? How do I get my business ranked for relevant terms within the search engines? Are there any cool\, new apps that will help my business? Join us to learn the answers to those questions and more . . .&quot\;</span></span></em><br />\n	<br />\n	All workshops are held at the following location unless otherwise noted:</p>\n<p style="text-align: center\;">\n	Hartland Public Library<br />\n	110 E. Park Avenue<br />\n	Hartland\, WI 53029</p>\n<p>\n	<br />\n	Registration:&nbsp\;&nbsp\; $10 for chamber members/ $15 for non-members<br />\n	Register online or email chamberdirector@hartland-wi.org.<br />\n	<br />\n	&nbsp\;</p>\n
LOCATION:Hartland Public Library 110 E. Park Avenue Hartland\, WI
UID:e.522.132350
SEQUENCE:3
DTSTAMP:20260420T123229Z
URL:https://business.hartland-wi.org/events/details/tiny-bites-and-tidbits-11-06-2013-132350
END:VEVENT

END:VCALENDAR
