BEGIN:VCALENDAR
VERSION:2.0
PRODID:-//ChamberMaster//Event Calendar 2.0//EN
METHOD:PUBLISH
X-PUBLISHED-TTL:P3D
REFRESH-INTERVAL:P3D
CALSCALE:GREGORIAN
BEGIN:VEVENT
DTSTART:20131004T133000Z
DTEND:20131004T150000Z
X-MICROSOFT-CDO-ALLDAYEVENT:FALSE
SUMMARY:Tiny Bites and Tidbits
DESCRIPTION:TINY BITES and TIDBITS\n\n	  Hartland Chamber of Commerce\n\n	Monthly Morning Workshop\n\n	NOTE THIS MONTH OUR WORKSHOP IS ON FRIDAY MORNING!\n\n	\n\n	Join us the first Wednesday of each month for bagels and coffee\, and a chance to learn a bit more about how to navigate web-based social networks\, content platforms and web-based media marketing.  Each month will focus on a different topic.\n\n	\n\n	Guest speakers : From NeoCloud Marketing\n\n	                               New Media & Internet Marketing Specialists\n\n	\n\n	This Month: "Getting Started w/Email Marketing using Constant Contact - A Guided Demonstration"\n\n	\n\n	 All workshops are held at the following location unless otherwise noted:\n\n	Hartland Public Library\n\n	110 E. Park Avenue\n\n	Hartland\, WI 53029\n\n	\n\n	Registration:   $10 for chamber members/ $15 for non-members\n\n	Register online or email chamberdirector@hartland-wi.org.
X-ALT-DESC;FMTTYPE=text/html:<p style="text-align: center\;">\n	<span style="font-family: comic sans ms\;"><span style="font-size: 14px\;"><strong><span style="color: rgb(0\, 0\, 205)\;"><span style="font-size: 16px\;">TINY BITES and TIDBITS</span></span><br />\n	&nbsp\;&nbsp\;<span style="font-size: 12px\;">Hartland Chamber of Commerce<br />\n	Monthly Morning Workshop</span></strong></span></span></p>\n<p style="text-align: center\;">\n	<span style="font-family: comic sans ms\;"><span style="font-size: 14px\;"><strong><span style="font-size: 12px\;"><span style="background-color: rgb(255\, 255\, 0)\;">NOTE THIS MONTH OUR WORKSHOP IS ON FRIDAY MORNING!</span></span></strong></span></span></p>\n<p>\n	<br />\n	Join us the first Wednesday of each month for bagels and coffee\, and a chance to learn a bit more about how to navigate web-based social networks\, content platforms and web-based media marketing.&nbsp\; Each month will focus on a different topic.<br />\n	<br />\n	<strong>Guest speakers :&nbsp\;</strong>From NeoCloud Marketing<br />\n	&nbsp\;&nbsp\;&nbsp\;&nbsp\;&nbsp\;&nbsp\;&nbsp\;&nbsp\;&nbsp\;&nbsp\;&nbsp\;&nbsp\;&nbsp\;&nbsp\;&nbsp\;&nbsp\;&nbsp\;&nbsp\;&nbsp\;&nbsp\;&nbsp\;&nbsp\;&nbsp\;&nbsp\;&nbsp\;&nbsp\;&nbsp\;&nbsp\;&nbsp\;&nbsp\; <span style="font-size: 11px\;">New Media &amp\; Internet Marketing Specialists</span><br />\n	<br />\n	<strong>This Month:</strong>&nbsp\;<em><strong>&quot\;Getting Started w/Email Marketing using Constant Contact - A Guided Demonstration&quot\;</strong></em></p>\n<p>\n	<br />\n	&nbsp\;All workshops are held at the following location unless otherwise noted:</p>\n<p style="text-align: center\;">\n	Hartland Public Library<br />\n	110 E. Park Avenue<br />\n	Hartland\, WI 53029</p>\n<p>\n	<br />\n	Registration:&nbsp\;&nbsp\; $10 for chamber members/ $15 for non-members<br />\n	Register online or email chamberdirector@hartland-wi.org.<br />\n	<br />\n	&nbsp\;</p>\n
LOCATION:Hartland Public Library 110 E. Park Avenue Hartland\, WI
UID:e.522.132349
SEQUENCE:3
DTSTAMP:20260420T123230Z
URL:https://business.hartland-wi.org/events/details/tiny-bites-and-tidbits-10-04-2013-132349
END:VEVENT

END:VCALENDAR
