BEGIN:VCALENDAR
VERSION:2.0
PRODID:-//ChamberMaster//Event Calendar 2.0//EN
METHOD:PUBLISH
X-PUBLISHED-TTL:P3D
REFRESH-INTERVAL:P3D
CALSCALE:GREGORIAN
BEGIN:VEVENT
DTSTART:20160907T133000Z
DTEND:20160907T143000Z
X-MICROSOFT-CDO-ALLDAYEVENT:FALSE
SUMMARY:Tiny Bites and Tidbits
DESCRIPTION:TINY BITES and TIDBITS\n\nHartland Chamber of Commerce\n\nMonthly Morning Workshop\n\nCANCELLED DUE TO HOLIDAY WEEK\n\n\n\nJoin us on Wednesdays once a month for a cup of coffee and a chance to learn a bit more about how to navigate web-based social networks\, content platforms and web-based media marketing.  Each month will focus on a different topic. \n\n\n\nGuest speaker:     Udo Misch\, NeoCloud Marketing\n\n                               New Media & Internet Marketing Specialists\n\n \n\nThis Month:  You're Social\, Now What? \n\n \n\nFind out which networks are right for you and how to use them.\n\nYou've thought about what social networks to use for your business or nonprofit\, and you're ready to take the next step. Where do you go from there? This seminar will give you a closer look at the popular social media networks   Facebook\, Twitter\, LinkedIn\, Pinterest\, and Instagram. \n\n \n\nWe'll show you the benefits of using each\, what kind of content to create\, tips on using photos and videos\, and examples of how other organizations are marketing with them. You'll also get tips on how to use analytics tools to tell if your social media activity is working.\n\n \n\n \n\nAll workshops are held at the following location unless otherwise noted:\n\nHartland Public Library\n\n110 E. Park Avenue\n\nHartland\, WI  53029\n\n \n\nRegistration:   $10 for chamber members/ $15 for non-members\n\nRegister online or email chamberdirector@hartland-wi.org.
X-ALT-DESC;FMTTYPE=text/html:<p style="text-align: center\;"><br />\n<br />\n<span style="font-family: comic sans ms\;"><span style="font-size: 14px\;"><strong><span style="color: rgb(0\, 0\, 205)\;"><span style="font-size: 16px\;">TINY BITES and TIDBITS</span></span><br />\n<span style="font-size: 12px\;">Hartland Chamber of Commerce<br />\nMonthly Morning Workshop</span></strong></span></span><br />\n<strong><span style="background-color: rgb(255\, 255\, 0)\;">CANCELLED</span><span style="background-color: rgb(255\, 255\, 0)\;"> DUE TO HOLIDAY WEEK</span></strong></p>\n\n<p><br />\nJoin us&nbsp\;on Wednesdays&nbsp\;once a&nbsp\;month for&nbsp\;a cup of coffee and&nbsp\;a chance to learn a bit more about how to navigate web-based social networks\, content platforms and web-based media marketing.&nbsp\; Each month will focus on a different topic.&nbsp\;<br />\n<br />\n<strong>Guest speaker:&nbsp\;&nbsp\;&nbsp\;&nbsp\; </strong>Udo Misch\, NeoCloud Marketing<br />\n&nbsp\;&nbsp\;&nbsp\;&nbsp\;&nbsp\;&nbsp\;&nbsp\;&nbsp\;&nbsp\;&nbsp\;&nbsp\;&nbsp\;&nbsp\;&nbsp\;&nbsp\;&nbsp\;&nbsp\;&nbsp\;&nbsp\;&nbsp\;&nbsp\;&nbsp\;&nbsp\;&nbsp\;&nbsp\;&nbsp\;&nbsp\;&nbsp\;&nbsp\;&nbsp\; <span style="font-size: 11px\;">New Media &amp\; Internet Marketing Specialists</span><br />\n&nbsp\;</p>\n\n<p><strong>This Month:&nbsp\; </strong><span style="font-size: 12pt\;"><strong><span style="color: rgb(255\, 0\, 0)\;"><span style="font-family: calibri\;"><em>You&rsquo\;re Social\, Now What?</em></span></span></strong><span style="color: black\;"><span style="font-family: calibri\;">&nbsp\;</span></span></span><br />\n<span style="color: rgb(255\, 0\, 0)\;">&nbsp\;<br />\n<strong><span style="font-size: 12pt\;"><span style="font-family: calibri\;">Find out which networks are right for you and how to use them.</span></span><br />\n<span style="font-size: 12pt\;"><span style="font-family: calibri\;">You&rsquo\;ve thought about what social networks to use for your business or nonprofit\, and you&rsquo\;re ready to take the next step. Where do you go from there? This seminar will give you a closer look at the popular social media networks &ndash\; Facebook\, Twitter\, LinkedIn\, Pinterest\, and Instagram.&nbsp\;</span></span><br />\n&nbsp\;<br />\n<span style="font-size: 12pt\;"><span style="font-family: calibri\;">We&rsquo\;ll show you the benefits of using each\, what kind of content to create\, tips on using photos and videos\, and examples of how other organizations are marketing with them. You&rsquo\;ll also get tips on how to use analytics tools to tell if your social media activity is working.</span></span></strong></span><br />\n&nbsp\;</p>\n\n<p>&nbsp\;</p>\n\n<p>All workshops are held at the following location unless otherwise noted:</p>\n\n<p>Hartland Public Library<br />\n110 E. Park Avenue<br />\nHartland\, WI&nbsp\; 53029<br />\n&nbsp\;</p>\n\n<p>Registration:&nbsp\;&nbsp\; $10 for chamber members/ $15 for non-members<br />\nRegister online or email chamberdirector@hartland-wi.org.</p>\n\n<p><br />\n&nbsp\;</p>\n
LOCATION:Hartland Public Library 110 E. Park Avenue Hartland\, WI 53018 262-367-3350
UID:e.522.133384
SEQUENCE:3
DTSTAMP:20260422T150352Z
URL:https://business.hartland-wi.org/events/details/tiny-bites-and-tidbits-09-07-2016-133384
END:VEVENT

END:VCALENDAR
