BEGIN:VCALENDAR
VERSION:2.0
PRODID:-//ChamberMaster//Event Calendar 2.0//EN
METHOD:PUBLISH
X-PUBLISHED-TTL:P3D
REFRESH-INTERVAL:P3D
CALSCALE:GREGORIAN
BEGIN:VEVENT
DTSTART:20140806T160000Z
DTEND:20140806T173000Z
X-MICROSOFT-CDO-ALLDAYEVENT:FALSE
SUMMARY:Tiny Bites and Tidbits
DESCRIPTION:TINY BITES and TIDBITS\n\nHartland Chamber of Commerce\n\nMonthly Morning Workshop\n\n\n\nJoin us the first Wednesday of each month for a bite to eat and a chance to learn a bit more about how to navigate web-based social networks\, content platforms and web-based media marketing.  Each month will focus on a different topic.  Bring your lunch along.\n\n\n\nGuest speakers : From NeoCloud Marketing\n\n                               New Media & Internet Marketing Specialists\n\n\n\nThis Month: "Using LinkedIn For Business"\n\n\n\n\n\n\n\nAll workshops are held at the following location unless otherwise noted:\n\nMaverick Innovation Lab\n\n440 Wells St.\, Suite 200\n\nDelafield\, WI  53019\n\n\n\nRegistration:   $10 for chamber members/ $15 for non-members\n\nRegister online or email chamberdirector@hartland-wi.org.
X-ALT-DESC;FMTTYPE=text/html:<p style="text-align: center\;"><br />\n<br />\n<span style="font-family: comic sans ms\;"><span style="font-size: 14px\;"><strong><span style="color: rgb(0\, 0\, 205)\;"><span style="font-size: 16px\;">TINY BITES and TIDBITS</span></span><br />\n<span style="font-size: 12px\;">Hartland Chamber of Commerce<br />\nMonthly Morning Workshop</span></strong></span></span></p>\n\n<p><br />\nJoin us the first Wednesday of each month for&nbsp\;a bite to eat&nbsp\;and a chance to learn a bit more about how to navigate web-based social networks\, content platforms and web-based media marketing.&nbsp\; Each month will focus on a different topic.&nbsp\; Bring your lunch along.<br />\n<br />\n<strong>Guest speakers :&nbsp\;</strong>From NeoCloud Marketing<br />\n&nbsp\;&nbsp\;&nbsp\;&nbsp\;&nbsp\;&nbsp\;&nbsp\;&nbsp\;&nbsp\;&nbsp\;&nbsp\;&nbsp\;&nbsp\;&nbsp\;&nbsp\;&nbsp\;&nbsp\;&nbsp\;&nbsp\;&nbsp\;&nbsp\;&nbsp\;&nbsp\;&nbsp\;&nbsp\;&nbsp\;&nbsp\;&nbsp\;&nbsp\;&nbsp\; <span style="font-size: 11px\;">New Media &amp\; Internet Marketing Specialists</span><br />\n<br />\n<strong>This Month:</strong>&nbsp\;<strong><em>&quot\;Using&nbsp\;LinkedIn&nbsp\;For Business&quot\;</em></strong><br />\n<br />\n<br />\n<br />\nAll workshops are held at the following location unless otherwise noted:</p>\n\n<p style="text-align: center\;">Maverick Innovation Lab<br />\n440 Wells St.\, Suite 200<br />\nDelafield\, WI&nbsp\; 53019</p>\n\n<p><br />\nRegistration:&nbsp\;&nbsp\; $10 for chamber members/ $15 for non-members<br />\nRegister online or email chamberdirector@hartland-wi.org.<br />\n<br />\n&nbsp\;</p>\n
LOCATION:Maverick Innovation Lab 440 Wells St.\, Suite 200 Delafield\, WI 53018 414-745-3919
UID:e.522.132789
SEQUENCE:3
DTSTAMP:20260420T193624Z
URL:https://business.hartland-wi.org/events/details/tiny-bites-and-tidbits-08-06-2014-132789
END:VEVENT

END:VCALENDAR
