BEGIN:VCALENDAR
VERSION:2.0
PRODID:-//ChamberMaster//Event Calendar 2.0//EN
METHOD:PUBLISH
X-PUBLISHED-TTL:P3D
REFRESH-INTERVAL:P3D
CALSCALE:GREGORIAN
BEGIN:VEVENT
DTSTART:20160803T133000Z
DTEND:20160803T143000Z
X-MICROSOFT-CDO-ALLDAYEVENT:FALSE
SUMMARY:Tiny Bites and Tidbits
DESCRIPTION:TINY BITES and TIDBITS\n\nHartland Chamber of Commerce\n\nMonthly Morning Workshop\n\n \n\n\n\nJoin us on Wednesdays once a month for a cup of coffee and a chance to learn a bit more about how to navigate web-based social networks\, content platforms and web-based media marketing.  Each month will focus on a different topic. \n\n\n\nGuest speaker:     Udo Misch\, NeoCloud Marketing\n\n                               New Media & Internet Marketing Specialists\n\n \n\nThis Month:\n\nGetting Started With or Enhance Your Knowledge of Constant Contact AND a brief overview about the new Pokemon Go craze and how you might use it in your business\n\n \n\nWe invite you to this live\, guided demonstration on the tools and features inside Constant Contact's small business marketing program. In this time-efficient\, highly practical session\, you will learn the basics so you can get going with your own marketing. The session will cover: \n\n    Setting up your Constant Contact account\n\n    Review of Campaign Templates available\n\n    Creating a campaign and editing the template\n\n    Branding your campaigns with your logo\, colors and photos\n\n    Contacts and how to import your email lists\n\n    Getting new subscribers by adding sign-up boxes to your website and emails\n\n    Reports\, Tracking and interpreting your results\n\n    BRIEF OVERVIEW of Pokemon Go!\n\n\n\nIt's a relaxed\, friendly educational session   bring your questions!\n\nAll workshops are held at the following location unless otherwise noted:\n\nHartland Public Library\n\n110 E. Park Avenue\n\nHartland\, WI  53029\n\n \n\nRegistration:   $10 for chamber members/ $15 for non-members\n\nRegister online or email chamberdirector@hartland-wi.org.
X-ALT-DESC;FMTTYPE=text/html:<p style="text-align: center\;"><br />\n<br />\n<span style="font-family: comic sans ms\;"><span style="font-size: 14px\;"><strong><span style="color: rgb(0\, 0\, 205)\;"><span style="font-size: 16px\;">TINY BITES and TIDBITS</span></span><br />\n<span style="font-size: 12px\;">Hartland Chamber of Commerce<br />\nMonthly Morning Workshop</span></strong></span></span><br />\n&nbsp\;</p>\n\n<p><br />\nJoin us&nbsp\;on Wednesdays&nbsp\;once a&nbsp\;month for&nbsp\;a cup of coffee and&nbsp\;a chance to learn a bit more about how to navigate web-based social networks\, content platforms and web-based media marketing.&nbsp\; Each month will focus on a different topic.&nbsp\;<br />\n<br />\n<strong>Guest speaker:&nbsp\;&nbsp\;&nbsp\;&nbsp\; </strong>Udo Misch\, NeoCloud Marketing<br />\n&nbsp\;&nbsp\;&nbsp\;&nbsp\;&nbsp\;&nbsp\;&nbsp\;&nbsp\;&nbsp\;&nbsp\;&nbsp\;&nbsp\;&nbsp\;&nbsp\;&nbsp\;&nbsp\;&nbsp\;&nbsp\;&nbsp\;&nbsp\;&nbsp\;&nbsp\;&nbsp\;&nbsp\;&nbsp\;&nbsp\;&nbsp\;&nbsp\;&nbsp\;&nbsp\; <span style="font-size: 11px\;">New Media &amp\; Internet Marketing Specialists</span><br />\n&nbsp\;</p>\n\n<p><strong>This Month:</strong><br />\n<strong><span style="font-family: arial\;"><span style="color: rgb(255\, 0\, 0)\;"><u><em><span style="font-size: medium\;">Getting Started With or Enhance&nbsp\;Your Knowledge of Constant Contact AND a brief overview about the new Pokemon Go craze and how you might use it in your business</span></em></u></span></span></strong><br />\n&nbsp\;<br />\n<span style="font-size: 12px\;"><span style="font-family: arial\;"><span style="color: rgb(255\, 0\, 0)\;">We invite you to this live\, guided demonstration on the tools and features inside Constant Contact&#39\;s small business marketing program. In this time-efficient\, highly practical&nbsp\;session\, you will learn the basics so you can get going with your own marketing. The session will cover: </span></span></span><br />\n&nbsp\;&nbsp\;&nbsp\;&nbsp\;<span style="font-size: 12px\;"><span style="font-family: arial\;"><span style="color: rgb(255\, 0\, 0)\;">Setting up your Constant Contact account</span></span></span><br />\n&nbsp\;&nbsp\;&nbsp\;&nbsp\;<span style="font-size: 12px\;"><span style="font-family: arial\;"><span style="color: rgb(255\, 0\, 0)\;">Review of Campaign Templates available</span></span></span><br />\n&nbsp\;&nbsp\;&nbsp\;&nbsp\;<span style="font-size: 12px\;"><span style="font-family: arial\;"><span style="color: rgb(255\, 0\, 0)\;">Creating a campaign and editing the template</span></span></span><br />\n&nbsp\;&nbsp\;&nbsp\;&nbsp\;<span style="font-size: 12px\;"><span style="font-family: arial\;"><span style="color: rgb(255\, 0\, 0)\;">Branding your campaigns with your logo\, colors and photos</span></span></span><br />\n&nbsp\;&nbsp\;&nbsp\;&nbsp\;<span style="font-size: 12px\;"><span style="font-family: arial\;"><span style="color: rgb(255\, 0\, 0)\;">Contacts and how to import your email lists</span></span></span><br />\n&nbsp\;&nbsp\;&nbsp\;&nbsp\;<span style="font-size: 12px\;"><span style="font-family: arial\;"><span style="color: rgb(255\, 0\, 0)\;">Getting new subscribers by adding sign-up boxes to your website and emails</span></span></span><br />\n&nbsp\; &nbsp\;&nbsp\;<span style="font-size: 12px\;"><span style="font-family: arial\;"><span style="color: rgb(255\, 0\, 0)\;">Reports\, Tracking and interpreting your results</span></span></span><br />\n<span style="font-size: 12px\;"><span style="font-family: arial\;"><span style="color: rgb(255\, 0\, 0)\;">&nbsp\;&nbsp\; &nbsp\;BRIEF OVERVIEW of Pokemon Go!</span></span></span><br />\n<br />\n<span style="font-size: 12px\;"><span style="font-family: arial\;"><span style="color: rgb(255\, 0\, 0)\;">It&#39\;s a relaxed\, friendly educational session &mdash\; bring your questions!</span></span></span></p>\n\n<p>All workshops are held at the following location unless otherwise noted:</p>\n\n<p>Hartland Public Library<br />\n110 E. Park Avenue<br />\nHartland\, WI&nbsp\; 53029<br />\n&nbsp\;</p>\n\n<p>Registration:&nbsp\;&nbsp\; $10 for chamber members/ $15 for non-members<br />\nRegister online or email chamberdirector@hartland-wi.org.</p>\n\n<p><br />\n&nbsp\;</p>\n
LOCATION:Hartland Public Library 110 E. Park Avenue Hartland\, WI 53018 262-367-3350
UID:e.522.133383
SEQUENCE:3
DTSTAMP:20260422T130517Z
URL:https://business.hartland-wi.org/events/details/tiny-bites-and-tidbits-08-03-2016-133383
END:VEVENT

END:VCALENDAR
