BEGIN:VCALENDAR
VERSION:2.0
PRODID:-//ChamberMaster//Event Calendar 2.0//EN
METHOD:PUBLISH
X-PUBLISHED-TTL:P3D
REFRESH-INTERVAL:P3D
CALSCALE:GREGORIAN
BEGIN:VEVENT
DTSTART:20160518T133000Z
DTEND:20160518T143000Z
X-MICROSOFT-CDO-ALLDAYEVENT:FALSE
SUMMARY:Tiny Bites and Tidbits
DESCRIPTION:TINY BITES and TIDBITS\n\nHartland Chamber of Commerce\n\nMonthly Morning Workshop\n\n \n\n\n\nJoin us on Wednesdays once a month for a cup of coffee and a chance to learn a bit more about how to navigate web-based social networks\, content platforms and web-based media marketing.  Each month will focus on a different topic. \n\n\n\nGuest speaker:     Udo Misch\, NeoCloud Marketing\n\n                               New Media & Internet Marketing Specialists\n\n \n\nThis Month: Make Social Media Work For You and Your Business\n\nThey're out there - how do you reach them?  You know your prospects\, clients and members are active on social media.  Are you asking:  can social media really be harnessed for your business or nonprofit?  \n\nThis session will teach the value of using social media to reach your customers\, members and prospects.  We will take a look at the five most popular social networks - Facebook\, LinkedIn\, Twitter\, Pinterest and Instagram.\n\nAll workshops are held at the following location unless otherwise noted:\n\nHartland Public Library\n\n110 E. Park Avenue\n\nHartland\, WI  53029\n\n \n\nRegistration:   $10 for chamber members/ $15 for non-members\n\nRegister online or email chamberdirector@hartland-wi.org.
X-ALT-DESC;FMTTYPE=text/html:<p style="text-align: center\;"><br />\n<br />\n<span style="font-family: comic sans ms\;"><span style="font-size: 14px\;"><strong><span style="color: rgb(0\, 0\, 205)\;"><span style="font-size: 16px\;">TINY BITES and TIDBITS</span></span><br />\n<span style="font-size: 12px\;">Hartland Chamber of Commerce<br />\nMonthly Morning Workshop</span></strong></span></span><br />\n&nbsp\;</p>\n\n<p><br />\nJoin us&nbsp\;on Wednesdays&nbsp\;once a&nbsp\;month for&nbsp\;a cup of coffee and&nbsp\;a chance to learn a bit more about how to navigate web-based social networks\, content platforms and web-based media marketing.&nbsp\; Each month will focus on a different topic.&nbsp\;<br />\n<br />\n<strong>Guest speaker:&nbsp\;&nbsp\;&nbsp\;&nbsp\; </strong>Udo Misch\, NeoCloud Marketing<br />\n&nbsp\;&nbsp\;&nbsp\;&nbsp\;&nbsp\;&nbsp\;&nbsp\;&nbsp\;&nbsp\;&nbsp\;&nbsp\;&nbsp\;&nbsp\;&nbsp\;&nbsp\;&nbsp\;&nbsp\;&nbsp\;&nbsp\;&nbsp\;&nbsp\;&nbsp\;&nbsp\;&nbsp\;&nbsp\;&nbsp\;&nbsp\;&nbsp\;&nbsp\;&nbsp\; <span style="font-size: 11px\;">New Media &amp\; Internet Marketing Specialists</span><br />\n&nbsp\;</p>\n\n<p><strong>This Month:</strong><span style="color: rgb(255\, 0\, 0)\;">&nbsp\;<u><strong><em>Make Social Media Work For You and Your Business</em></strong></u></span></p>\n\n<p><span style="color: rgb(255\, 0\, 0)\;"><strong>They&#39\;re out there - how do you reach them?&nbsp\; You know your prospects\, clients&nbsp\;</strong></span><span style="color: rgb(255\, 0\, 0)\;"><strong>and&nbsp\;members are active on social media.&nbsp\; Are you asking:&nbsp\; can social media really</strong></span>&nbsp\;<span style="color: rgb(255\, 0\, 0)\;"><strong>be harnessed for your business or nonprofit?&nbsp\; </strong></span></p>\n\n<p><span style="color: rgb(255\, 0\, 0)\;"><strong>This session will teach the value of using social media to reach your customers\,</strong></span>&nbsp\;<span style="color: rgb(255\, 0\, 0)\;"><strong>members and prospects.&nbsp\; We will take a look at the five most popular social</strong></span>&nbsp\;<span style="color: rgb(255\, 0\, 0)\;"><strong>networks - Facebook\, LinkedIn\, Twitter\, Pinterest and Instagram.</strong></span></p>\n\n<p>All workshops are held at the following location unless otherwise noted:</p>\n\n<p>Hartland Public Library<br />\n110 E. Park Avenue<br />\nHartland\, WI&nbsp\; 53029<br />\n&nbsp\;</p>\n\n<p>Registration:&nbsp\;&nbsp\; $10 for chamber members/ $15 for non-members<br />\nRegister online or email chamberdirector@hartland-wi.org.</p>\n\n<p><br />\n&nbsp\;</p>\n
LOCATION:Hartland Public Library 110 E. Park Avenue Hartland\, WI 53018 262-367-3350
UID:e.522.133370
SEQUENCE:3
DTSTAMP:20260422T074531Z
URL:https://business.hartland-wi.org/events/details/tiny-bites-and-tidbits-05-18-2016-133370
END:VEVENT

END:VCALENDAR
