BEGIN:VCALENDAR
VERSION:2.0
PRODID:-//ChamberMaster//Event Calendar 2.0//EN
METHOD:PUBLISH
X-PUBLISHED-TTL:P3D
REFRESH-INTERVAL:P3D
CALSCALE:GREGORIAN
BEGIN:VEVENT
DTSTART:20160420T133000Z
DTEND:20160420T143000Z
X-MICROSOFT-CDO-ALLDAYEVENT:FALSE
SUMMARY:Tiny Bites and Tidbits
DESCRIPTION:TINY BITES and TIDBITS\n\nHartland Chamber of Commerce\n\nMonthly Morning Workshop\n\n \n\n\n\nJoin us on Wednesdays once a month for a cup of coffee and a chance to learn a bit more about how to navigate web-based social networks\, content platforms and web-based media marketing.  Each month will focus on a different topic. \n\n\n\nGuest speaker:     Udo Misch\, NeoCloud Marketing\n\n                               New Media & Internet Marketing Specialists\n\n\n\nThis Month: Email Marketing for Success: Grow Your Business with \n\n                      Newsletters & Announcements\n\n\n\nAt the heart of business marketing are the campaigns that drive action.  Newsletters and Announcements have become a core component of those campaign choices.\n\n\n\nIn this sessions you will learn:\n\n- The different types of newsletters\n\n- What to write about in your newsletter or announcement\n\n- Subject line best practices and when to send your newsletter\n\n - The importance of understanding how connected email and social media are...\n\n   they have to be done together\n\n- What types of additional tools might be useful\n\nAll workshops are held at the following location unless otherwise noted:\n\nHartland Public Library\n\n110 E. Park Avenue\n\nHartland\, WI  53029\n\n \n\nRegistration:   $10 for chamber members/ $15 for non-members\n\nRegister online or email chamberdirector@hartland-wi.org.
X-ALT-DESC;FMTTYPE=text/html:<p style="text-align: center\;"><br />\n<br />\n<span style="font-family: comic sans ms\;"><span style="font-size: 14px\;"><strong><span style="color: rgb(0\, 0\, 205)\;"><span style="font-size: 16px\;">TINY BITES and TIDBITS</span></span><br />\n<span style="font-size: 12px\;">Hartland Chamber of Commerce<br />\nMonthly Morning Workshop</span></strong></span></span><br />\n&nbsp\;</p>\n\n<p><br />\nJoin us&nbsp\;on Wednesdays&nbsp\;once a&nbsp\;month for&nbsp\;a cup of coffee and&nbsp\;a chance to learn a bit more about how to navigate web-based social networks\, content platforms and web-based media marketing.&nbsp\; Each month will focus on a different topic.&nbsp\;<br />\n<br />\n<strong>Guest speaker:&nbsp\;&nbsp\;&nbsp\;&nbsp\; </strong>Udo Misch\, NeoCloud Marketing<br />\n&nbsp\;&nbsp\;&nbsp\;&nbsp\;&nbsp\;&nbsp\;&nbsp\;&nbsp\;&nbsp\;&nbsp\;&nbsp\;&nbsp\;&nbsp\;&nbsp\;&nbsp\;&nbsp\;&nbsp\;&nbsp\;&nbsp\;&nbsp\;&nbsp\;&nbsp\;&nbsp\;&nbsp\;&nbsp\;&nbsp\;&nbsp\;&nbsp\;&nbsp\;&nbsp\; <span style="font-size: 11px\;">New Media &amp\; Internet Marketing Specialists</span><br />\n<br />\n<strong>This Month:</strong><span style="color: rgb(255\, 0\, 0)\;">&nbsp\;<u><strong><em>Email Marketing for Success:&nbsp\;Grow Your Business&nbsp\;with </em></strong></u><br />\n<strong><em>&nbsp\;&nbsp\;&nbsp\;&nbsp\;&nbsp\;&nbsp\;&nbsp\;&nbsp\;&nbsp\;&nbsp\;&nbsp\;&nbsp\;&nbsp\;&nbsp\;&nbsp\;&nbsp\;&nbsp\;&nbsp\;&nbsp\;&nbsp\;&nbsp\;</em></strong><u><strong><em> Newsletters &amp\; Announcements</em></strong></u></span><br />\n<br />\n<span style="color: rgb(255\, 0\, 0)\;"><strong>At the heart of business marketing are the campaigns that drive action.&nbsp\; Newsletters and Announcements have become a core component of those&nbsp\;campaign choices.</strong></span><br />\n<br />\n<span style="color: rgb(255\, 0\, 0)\;"><strong>In this sessions you will learn:</strong></span></p>\n\n<p><span style="color: rgb(255\, 0\, 0)\;"><font color="#333333">- </font><strong>The different types of newsletters<br />\n-&nbsp\;What to write about in your newsletter or announcement<br />\n- Subject line best practices and when to send your newsletter<br />\n&nbsp\;- The importance of understanding how connected email and social media </strong></span><strong><span style="color: rgb(255\, 0\, 0)\;">are...<br />\n&nbsp\;&nbsp\; they have to be done together<br />\n- What types of additional tools might be useful</span></strong></p>\n\n<p>All workshops are held at the following location unless otherwise noted:</p>\n\n<p>Hartland Public Library<br />\n110 E. Park Avenue<br />\nHartland\, WI&nbsp\; 53029<br />\n&nbsp\;</p>\n\n<p>Registration:&nbsp\;&nbsp\; $10 for chamber members/ $15 for non-members<br />\nRegister online or email chamberdirector@hartland-wi.org.</p>\n\n<p><br />\n&nbsp\;</p>\n
LOCATION:Hartland Public Library 110 E. Park Avenue Hartland\, WI 53018 262-367-3350
UID:e.522.133369
SEQUENCE:3
DTSTAMP:20260422T060341Z
URL:https://business.hartland-wi.org/events/details/tiny-bites-and-tidbits-04-20-2016-133369
END:VEVENT

END:VCALENDAR
