BEGIN:VCALENDAR
VERSION:2.0
PRODID:-//ChamberMaster//Event Calendar 2.0//EN
METHOD:PUBLISH
X-PUBLISHED-TTL:P3D
REFRESH-INTERVAL:P3D
CALSCALE:GREGORIAN
BEGIN:VEVENT
DTSTART:20160323T133000Z
DTEND:20160323T143000Z
X-MICROSOFT-CDO-ALLDAYEVENT:FALSE
SUMMARY:Tiny Bites and Tidbits
DESCRIPTION:TINY BITES and TIDBITS\n\nHartland Chamber of Commerce\n\nMonthly Morning Workshop\n\n \n\n\n\nJoin us on Wednesdays once a month for a cup of coffee and a chance to learn a bit more about how to navigate web-based social networks\, content platforms and web-based media marketing.  Each month will focus on a different topic. \n\n\n\nGuest speaker:     Udo Misch\, NeoCloud Marketing\n\n                               New Media & Internet Marketing Specialists\n\n\n\nThis Month: Don't Be a Loser: How to Develop a Winning Digital Marketing Game Plan\n\nWebsites.  Social media.  SEO.  Blogging.  For many business owners\, the idea of developing a digital marketing strategy is overwhelming.  While setting up a game plan can seem daunting\, it doesn't have to be.\n\n\n\nIn this session you will learn: \n\nWebsite Best Practices\n\nSocial Media - which platforms are best for you?\n\nBlogging - the why and how of producing content about your business\n\nAnalytics - A review of how to measure your digital media results                  \n\nAll workshops are held at the following location unless otherwise noted:\n\nHartland Public Library\n\n110 E. Park Avenue\n\nHartland\, WI  53029\n\n \n\nRegistration:   $10 for chamber members/ $15 for non-members\n\nRegister online or email chamberdirector@hartland-wi.org.
X-ALT-DESC;FMTTYPE=text/html:<p style="text-align: center\;"><br />\n<br />\n<span style="font-family: comic sans ms\;"><span style="font-size: 14px\;"><strong><span style="color: rgb(0\, 0\, 205)\;"><span style="font-size: 16px\;">TINY BITES and TIDBITS</span></span><br />\n<span style="font-size: 12px\;">Hartland Chamber of Commerce<br />\nMonthly Morning Workshop</span></strong></span></span><br />\n&nbsp\;</p>\n\n<p><br />\nJoin us&nbsp\;on Wednesdays&nbsp\;once a&nbsp\;month for&nbsp\;a cup of coffee and&nbsp\;a chance to learn a bit more about how to navigate web-based social networks\, content platforms and web-based media marketing.&nbsp\; Each month will focus on a different topic.&nbsp\;<br />\n<br />\n<strong>Guest speaker:&nbsp\;&nbsp\;&nbsp\;&nbsp\; </strong>Udo Misch\, NeoCloud Marketing<br />\n&nbsp\;&nbsp\;&nbsp\;&nbsp\;&nbsp\;&nbsp\;&nbsp\;&nbsp\;&nbsp\;&nbsp\;&nbsp\;&nbsp\;&nbsp\;&nbsp\;&nbsp\;&nbsp\;&nbsp\;&nbsp\;&nbsp\;&nbsp\;&nbsp\;&nbsp\;&nbsp\;&nbsp\;&nbsp\;&nbsp\;&nbsp\;&nbsp\;&nbsp\;&nbsp\; <span style="font-size: 11px\;">New Media &amp\; Internet Marketing Specialists</span><br />\n<br />\n<strong>This Month:</strong>&nbsp\;<span style="color: rgb(255\, 0\, 0)\;"><strong><em><u>Don&#39\;t Be a Loser: How to Develop a Winning Digital Marketing Game Plan</u></em></strong></span></p>\n\n<p><span style="color: rgb(255\, 0\, 0)\;"><strong>Websites.&nbsp\; Social media.&nbsp\; SEO.&nbsp\; Blogging.&nbsp\; For many business owners\, the&nbsp\;idea&nbsp\;of&nbsp\;developing a digital marketing strategy is overwhelming.&nbsp\; While setting up a game plan can seem daunting\, it doesn&#39\;t have to be.</strong></span><br />\n<br />\n<span style="color: rgb(255\, 0\, 0)\;"><strong><em>In this session you will learn:&nbsp\;<br />\nWebsite Best Practices<br />\nSocial Media - which platforms are best for you?<br />\nBlogging - the why and how of producing content about your business<br />\nAnalytics - A review of how to measure your digital media results</em></strong></span><span style="color: rgb(255\, 0\, 0)\;"><strong><em>&nbsp\;&nbsp\;&nbsp\;&nbsp\;&nbsp\;&nbsp\;&nbsp\;&nbsp\;&nbsp\;&nbsp\;&nbsp\;&nbsp\;&nbsp\;&nbsp\;&nbsp\;&nbsp\;&nbsp\;&nbsp\;</em></strong></span></p>\n\n<p>All workshops are held at the following location unless otherwise noted:</p>\n\n<p style="text-align: center\;">Hartland Public Library<br />\n110 E. Park Avenue<br />\nHartland\, WI&nbsp\; 53029<br />\n&nbsp\;</p>\n\n<p>Registration:&nbsp\;&nbsp\; $10 for chamber members/ $15 for non-members<br />\nRegister online or email chamberdirector@hartland-wi.org.</p>\n\n<p style="text-align: center\;"><br />\n&nbsp\;</p>\n
LOCATION:Hartland Public Library 110 E. Park Avenue Hartland\, WI 53018 262-367-3350
UID:e.522.133368
SEQUENCE:3
DTSTAMP:20260422T041703Z
URL:https://business.hartland-wi.org/events/details/tiny-bites-and-tidbits-03-23-2016-133368
END:VEVENT

END:VCALENDAR
