BEGIN:VCALENDAR
VERSION:2.0
PRODID:-//ChamberMaster//Event Calendar 2.0//EN
METHOD:PUBLISH
X-PUBLISHED-TTL:P3D
REFRESH-INTERVAL:P3D
CALSCALE:GREGORIAN
BEGIN:VEVENT
DTSTART:20130306T143000Z
DTEND:20130306T160000Z
X-MICROSOFT-CDO-ALLDAYEVENT:FALSE
SUMMARY:Tiny Bites and Tidbits
DESCRIPTION:TINY BITES and TIDBITS\n\nHartland Chamber of Commerce\n\nMonthly Morning Workshop\n\n\n\nJoin us the first Wednesday of each month for bagels and coffee\, and a chance to learn a bit more about how to navigate web-based social networks\, content platforms and web-based media marketing.  Each month will focus on a different topic.\n\n\n\nGuest speakers : From NeoCloud Marketing\n\n                               New Media & Internet Marketing Specialists\n\n\n\nThis Month: "A Deep Dive Into E-Mail Marketing with Constant Contact"\n\nThis program is a great session for:\n\n- Anyone using the platform but not very familiar with it yet\n\n- Anyone wanting to explore a new e-mail platform\n\n-Anyone not familiar with e-mail marketing best practices\n\n\n\nYou will also learn how to:\n\n- Set up a Constant Contact account\n\n- Choose a template\n\n- Produce a contact list\, and much more!\n\n\n\nAll workshops are held at the following location unless otherwise noted:\n\nHartland Public Library\n\n110 E. Park Avenue\n\nHartland\, WI 53029\n\n\n\nRegistration:   $15 for chamber members/ $20 for non-members\n\nRegister online or email chamberdirector@hartland-wi.org.
X-ALT-DESC;FMTTYPE=text/html:<p style="text-align: center\;"><span style="font-family: comic sans ms\;"><span style="font-size: 14px\;"><strong><span style="color: rgb(0\, 0\, 205)\;"><span style="font-size: 16px\;">TINY BITES and TIDBITS</span></span><br />\n<span style="font-size: 12px\;">Hartland Chamber of Commerce<br />\nMonthly Morning Workshop</span></strong></span></span></p>\n\n<p><br />\nJoin us the first Wednesday of each month for bagels and coffee\, and a chance to learn a bit more about how to navigate web-based social networks\, content platforms and web-based media marketing.&nbsp\; Each month will focus on a different topic.<br />\n<br />\n<strong>Guest speakers :&nbsp\;</strong>From NeoCloud Marketing<br />\n&nbsp\;&nbsp\;&nbsp\;&nbsp\;&nbsp\;&nbsp\;&nbsp\;&nbsp\;&nbsp\;&nbsp\;&nbsp\;&nbsp\;&nbsp\;&nbsp\;&nbsp\;&nbsp\;&nbsp\;&nbsp\;&nbsp\;&nbsp\;&nbsp\;&nbsp\;&nbsp\;&nbsp\;&nbsp\;&nbsp\;&nbsp\;&nbsp\;&nbsp\;&nbsp\; <span style="font-size: 11px\;">New Media &amp\; Internet Marketing Specialists</span><br />\n<br />\n<strong>This Month:</strong>&nbsp\;<strong><em>&quot\;A Deep Dive Into E-Mail Marketing with Constant Contact&quot\;</em></strong><br />\nThis program is a great session for:<br />\n- Anyone using the platform but not very familiar with it yet<br />\n- Anyone wanting to explore a new e-mail platform<br />\n-Anyone not familiar with e-mail marketing best practices<br />\n<br />\nYou will also learn how to:<br />\n- Set up a Constant Contact account<br />\n- Choose a template<br />\n- Produce a contact list\, and much more!<br />\n<br />\nAll workshops are held at the following location unless otherwise noted:</p>\n\n<p style="text-align: center\;">Hartland Public Library<br />\n110 E. Park Avenue<br />\nHartland\, WI 53029</p>\n\n<p><br />\nRegistration:&nbsp\;&nbsp\; $15 for chamber members/ $20 for non-members<br />\nRegister online or email chamberdirector@hartland-wi.org.<br />\n<br />\n&nbsp\;</p>\n
LOCATION:Town Bank 850 W. North Shore Drive Hartland\, WI 53029 All workshops held downstairs in the Community Room
UID:e.522.132330
SEQUENCE:3
DTSTAMP:20260420T225836Z
URL:https://business.hartland-wi.org/events/details/tiny-bites-and-tidbits-03-06-2013-132330
END:VEVENT

END:VCALENDAR
