BEGIN:VCALENDAR
VERSION:2.0
PRODID:-//ChamberMaster//Event Calendar 2.0//EN
METHOD:PUBLISH
X-PUBLISHED-TTL:P3D
REFRESH-INTERVAL:P3D
CALSCALE:GREGORIAN
BEGIN:VEVENT
DTSTART:20140305T170000Z
DTEND:20140305T183000Z
X-MICROSOFT-CDO-ALLDAYEVENT:FALSE
SUMMARY:Tiny Bites and Tidbits
DESCRIPTION:TINY BITES and TIDBITS\n\n	Hartland Chamber of Commerce\n\n	Monthly Morning Workshop\n\n	\n\n	Join us the first Wednesday of each month for a bite to eat and a chance to learn a bit more about how to navigate web-based social networks\, content platforms and web-based media marketing.  Each month will focus on a different topic.  Bring your lunch along.\n\n	\n\n	Guest speakers : From NeoCloud Marketing\n\n	                               New Media & Internet Marketing Specialists\n\n	\n\n	This Month: CANCELLED - Will Be Reassigned\n\n	\n\n	\n\n	\n\n	All workshops are held at the following location unless otherwise noted:\n\n	Hartland Public Library\n\n	110 E. Park Avenue\n\n	Hartland\, WI 53029\n\n	\n\n	Registration:   $10 for chamber members/ $15 for non-members\n\n	Register online or email chamberdirector@hartland-wi.org.
X-ALT-DESC;FMTTYPE=text/html:<p style="text-align: center\;">\n	<br />\n	<br />\n	<span style="font-family: comic sans ms\;"><span style="font-size: 14px\;"><strong><span style="color: rgb(0\, 0\, 205)\;"><span style="font-size: 16px\;">TINY BITES and TIDBITS</span></span><br />\n	<span style="font-size: 12px\;">Hartland Chamber of Commerce<br />\n	Monthly Morning Workshop</span></strong></span></span></p>\n<p>\n	<br />\n	Join us the first Wednesday of each month for&nbsp\;a bite to eat&nbsp\;and a chance to learn a bit more about how to navigate web-based social networks\, content platforms and web-based media marketing.&nbsp\; Each month will focus on a different topic.&nbsp\; Bring your lunch along.<br />\n	<br />\n	<strong>Guest speakers :&nbsp\;</strong>From NeoCloud Marketing<br />\n	&nbsp\;&nbsp\;&nbsp\;&nbsp\;&nbsp\;&nbsp\;&nbsp\;&nbsp\;&nbsp\;&nbsp\;&nbsp\;&nbsp\;&nbsp\;&nbsp\;&nbsp\;&nbsp\;&nbsp\;&nbsp\;&nbsp\;&nbsp\;&nbsp\;&nbsp\;&nbsp\;&nbsp\;&nbsp\;&nbsp\;&nbsp\;&nbsp\;&nbsp\;&nbsp\; <span style="font-size: 11px\;">New Media &amp\; Internet Marketing Specialists</span><br />\n	<br />\n	<strong>This Month:</strong>&nbsp\;<strong><em>CANCELLED - Will Be Reassigned</em></strong><br />\n	<br />\n	<br />\n	<br />\n	All workshops are held at the following location unless otherwise noted:</p>\n<p style="text-align: center\;">\n	Hartland Public Library<br />\n	110 E. Park Avenue<br />\n	Hartland\, WI 53029</p>\n<p>\n	<br />\n	Registration:&nbsp\;&nbsp\; $10 for chamber members/ $15 for non-members<br />\n	Register online or email chamberdirector@hartland-wi.org.<br />\n	<br />\n	&nbsp\;</p>\n
LOCATION:Hartland Public Library 110 E. Park Avenue Hartland\, WI 53029
UID:e.522.132784
SEQUENCE:3
DTSTAMP:20260420T161209Z
URL:https://business.hartland-wi.org/events/details/tiny-bites-and-tidbits-03-05-2014-132784
END:VEVENT

END:VCALENDAR
