BEGIN:VCALENDAR
VERSION:2.0
PRODID:-//ChamberMaster//Event Calendar 2.0//EN
METHOD:PUBLISH
X-PUBLISHED-TTL:P3D
REFRESH-INTERVAL:P3D
CALSCALE:GREGORIAN
BEGIN:VEVENT
DTSTART:20150304T143000Z
DTEND:20150304T153000Z
X-MICROSOFT-CDO-ALLDAYEVENT:FALSE
SUMMARY:Tiny Bites and Tidbits
DESCRIPTION:TINY BITES and TIDBITS\n\nHartland Chamber of Commerce\n\nMonthly Morning Workshop\n\n \n\n\n\nJoin us the first Wednesday of each month for a cup of coffee and a chance to learn a bit more about how to navigate web-based social networks\, content platforms and web-based media marketing.  Each month will focus on a different topic. \n\n\n\nGuest speakers : From NeoCloud Marketing\n\n                               New Media & Internet Marketing Specialists\n\n\n\nThis Month: "Social Media Best Practices - What you need to know to win in 2015"\n\n\n\n\n\n\n\nAll workshops are held at the following location unless otherwise noted:\n\nHartland Public Library\n\n110 E. Park Avenue\n\nHartland\, WI  53029\n\n\n\nRegistration:   $10 for chamber members/ $15 for non-members\n\nRegister online or email chamberdirector@hartland-wi.org.
X-ALT-DESC;FMTTYPE=text/html:<p style="text-align: center\;"><br />\n<br />\n<span style="font-family: comic sans ms\;"><span style="font-size: 14px\;"><strong><span style="color: rgb(0\, 0\, 205)\;"><span style="font-size: 16px\;">TINY BITES and TIDBITS</span></span><br />\n<span style="font-size: 12px\;">Hartland Chamber of Commerce<br />\nMonthly Morning Workshop</span></strong></span></span><br />\n&nbsp\;</p>\n\n<p><br />\nJoin us the first Wednesday of each month for&nbsp\;a cup of coffee and&nbsp\;a chance to learn a bit more about how to navigate web-based social networks\, content platforms and web-based media marketing.&nbsp\; Each month will focus on a different topic.&nbsp\;<br />\n<br />\n<strong>Guest speakers :&nbsp\;</strong>From NeoCloud Marketing<br />\n&nbsp\;&nbsp\;&nbsp\;&nbsp\;&nbsp\;&nbsp\;&nbsp\;&nbsp\;&nbsp\;&nbsp\;&nbsp\;&nbsp\;&nbsp\;&nbsp\;&nbsp\;&nbsp\;&nbsp\;&nbsp\;&nbsp\;&nbsp\;&nbsp\;&nbsp\;&nbsp\;&nbsp\;&nbsp\;&nbsp\;&nbsp\;&nbsp\;&nbsp\;&nbsp\; <span style="font-size: 11px\;">New Media &amp\; Internet Marketing Specialists</span><br />\n<br />\n<strong>This Month:</strong>&nbsp\;<span style="color: rgb(0\, 0\, 205)\;"><strong><em>&quot\;Social Media Best Practices - What you need to know to win in 2015&quot\;</em></strong></span><br />\n<br />\n<br />\n<br />\nAll workshops are held at the following location unless otherwise noted:</p>\n\n<p style="text-align: center\;">Hartland Public Library<br />\n110 E. Park Avenue<br />\nHartland\, WI&nbsp\; 53029</p>\n\n<p><br />\nRegistration:&nbsp\;&nbsp\; $10 for chamber members/ $15 for non-members<br />\nRegister online or email chamberdirector@hartland-wi.org.<br />\n<br />\n&nbsp\;</p>\n
LOCATION:Hartland Public Library 110 E. Park Avenue Hartland\, WI 53018 262-367-3350
UID:e.522.133103
SEQUENCE:3
DTSTAMP:20260421T074815Z
URL:https://business.hartland-wi.org/events/details/tiny-bites-and-tidbits-03-04-2015-133103
END:VEVENT

END:VCALENDAR
