BEGIN:VCALENDAR
VERSION:2.0
PRODID:-//ChamberMaster//Event Calendar 2.0//EN
METHOD:PUBLISH
X-PUBLISHED-TTL:P3D
REFRESH-INTERVAL:P3D
CALSCALE:GREGORIAN
BEGIN:VEVENT
DTSTART:20130516T133000Z
DTEND:20130516T163000Z
X-MICROSOFT-CDO-ALLDAYEVENT:FALSE
SUMMARY:Think Outside the (Disposable) Box: Reusable Transport Packaging Workshop
DESCRIPTION:Making smart decisions about transport packaging materials--such as pallets\, boxes and shrink wrap--can save costs\, reduce product damage and reduce waste! Find out what reusables could do for your business at this 3-hour workshop\, including a delicious cooked breakfast!  Hear from representatives of our own Waukesha County businesses\, including Roundy's Distribution Center and Orbis Manufacturing!
X-ALT-DESC;FMTTYPE=text/html:Making smart decisions about transport packaging materials--such as pallets\, boxes and shrink wrap--can save costs\, reduce product damage and reduce waste! Find out what reusables could do for your business at this 3-hour workshop\, including a delicious cooked breakfast!&nbsp\; Hear from representatives of our own Waukesha County businesses\, including Roundy&#39\;s Distribution Center and Orbis Manufacturing!
LOCATION:Olympia Resort Conference Center 1350 Royale Mile Rd. Oconomowoc\, WI 53066
UID:e.522.132405
SEQUENCE:3
DTSTAMP:20260420T193922Z
URL:https://business.hartland-wi.org/events/details/think-outside-the-disposable-box-reusable-transport-packaging-workshop-05-16-2013-132405
END:VEVENT

END:VCALENDAR
