BEGIN:VCALENDAR
VERSION:2.0
PRODID:-//ChamberMaster//Event Calendar 2.0//EN
METHOD:PUBLISH
X-PUBLISHED-TTL:P3D
REFRESH-INTERVAL:P3D
CALSCALE:GREGORIAN
BEGIN:VEVENT
DTSTART:20191229T013000Z
DTEND:20191229T033000Z
X-MICROSOFT-CDO-ALLDAYEVENT:FALSE
SUMMARY:The Trial of Ebenezer Scrooge - Comedy
DESCRIPTION:THE TRIAL OF EBENEZER SCROOGE By Mark Brown\n\nDecember 19-29\, 2019\n\nRATING: PG | RUN TIME: 2 hours. 15-minute intermission\n\n________________________\n\nThe Trial of the Century! \n\nA year after his miraculous transformation\, Ebenezer Scrooge is back to his old ways and is suing Jacob Marley and the Ghosts of Christmas Past\, Present and Future for breaking and entering\, kidnapping\, slander\, pain and suffering\, attempted murder and the intentional infliction of emotional distress.\n\nThe Ghosts employ Solomon Rothschild\, England's most charismatic\, savvy and clever barrister\, to defend them against these charges. Ebenezer\, that old penny pincher\, represents himself. It seems certain that Scrooge has reverted to his old disagreeable self. Can the spirit of Christmas survive?\n\nJoin us for a lot of laughs and a little something different this Christmas holiday.
X-ALT-DESC;FMTTYPE=text/html:<h1><strong><em>THE TRIAL OF EBENEZER SCROOGE&nbsp\;</em></strong><span style="font-size:13px">By Mark Brown</span></h1>\n\n<p><strong>December 19-29\, 2019</strong></p>\n\n<p>RATING: PG | RUN TIME: 2 hours. 15-minute intermission<br />\n________________________</p>\n\n<p><strong>The Trial of the Century! </strong></p>\n\n<p>A year after his miraculous transformation\, Ebenezer Scrooge is back to his old ways and is suing Jacob Marley and the Ghosts of Christmas Past\, Present and Future for breaking and entering\, kidnapping\, slander\, pain and suffering\, attempted murder and the intentional infliction of emotional distress.</p>\n\n<p>The Ghosts employ Solomon Rothschild\, England&#39\;s most charismatic\, savvy and clever barrister\, to defend them against these charges. Ebenezer\, that old penny pincher\, represents himself. It seems certain that Scrooge has reverted to his old disagreeable self. Can the spirit of Christmas survive?</p>\n\n<p>Join us for a lot of laughs and a little something different this Christmas holiday.<br />\n&nbsp\;</p>\n
LOCATION:PERFORMANCE ADDRESS*: United Church of Christ\, 111 Church St. Hartland\, WI 53029 *Directly across the street from LCP. GENERAL SEATING (seats are not assigned
UID:e.522.138154
SEQUENCE:3
DTSTAMP:20260419T161636Z
URL:https://business.hartland-wi.org/events/details/the-trial-of-ebenezer-scrooge-comedy-12-28-2019-138154
END:VEVENT

END:VCALENDAR
