BEGIN:VCALENDAR
VERSION:2.0
PRODID:-//ChamberMaster//Event Calendar 2.0//EN
METHOD:PUBLISH
X-PUBLISHED-TTL:P3D
REFRESH-INTERVAL:P3D
CALSCALE:GREGORIAN
BEGIN:VEVENT
DTSTART:20160927T210000Z
DTEND:20160928T000000Z
X-MICROSOFT-CDO-ALLDAYEVENT:FALSE
SUMMARY:The Specific Chiropractic Center Grand Opening!
DESCRIPTION:Do you like to party? Do you like to have fun? Do you like free stuff? \n\n\n\nIf you answered yes to any of those questions then it is a must that you come and check out The Specific Chiropractic Center's Grand Opening Party!\n\n\n\nTons of local companies have donated raffle prizes for you to enter to win. Snacks and beverages will be provided along with music and fun!
X-ALT-DESC;FMTTYPE=text/html:Do you like to party? Do you like to have fun? Do you like free stuff?&nbsp\;<br />\n<br />\nIf you answered yes to any of those questions then it is a must that you come and check out The Specific Chiropractic Center&#39\;s Grand Opening Party!<br />\n<br />\nTons of local companies have donated raffle prizes for you to enter to win. Snacks and beverages will be provided along with music and fun!
LOCATION:The Specific Chiropractic Center 557 Cottonwood Ave Ste #101 Hartland\, WI 53029
UID:e.522.133824
SEQUENCE:3
DTSTAMP:20260422T150702Z
URL:https://business.hartland-wi.org/events/details/the-specific-chiropractic-center-grand-opening-133824
END:VEVENT

END:VCALENDAR
