BEGIN:VCALENDAR
VERSION:2.0
PRODID:-//ChamberMaster//Event Calendar 2.0//EN
METHOD:PUBLISH
X-PUBLISHED-TTL:P3D
REFRESH-INTERVAL:P3D
CALSCALE:GREGORIAN
BEGIN:VEVENT
DTSTART;VALUE=DATE:20181116
DTEND;VALUE=DATE:20181118
TRANSP:TRANSPARENT
X-MICROSOFT-CDO-ALLDAYEVENT:TRUE
SUMMARY:The Flower Garden Holiday Open House
DESCRIPTION:The Flower Garden's annual holiday open house\, enjoy some refreshments & treats. 15% off holiday decor & 40% Fall decor.
X-ALT-DESC;FMTTYPE=text/html:The Flower Garden&#39\;s annual holiday open house\, enjoy some refreshments &amp\; treats. 15% off holiday decor &amp\; 40% Fall decor.&nbsp\;
LOCATION:202 North Ave\, Hartland
UID:e.522.137615
SEQUENCE:3
DTSTAMP:20260424T103856Z
URL:https://business.hartland-wi.org/events/details/the-flower-garden-holiday-open-house-137615
END:VEVENT

END:VCALENDAR
