BEGIN:VCALENDAR
VERSION:2.0
PRODID:-//ChamberMaster//Event Calendar 2.0//EN
METHOD:PUBLISH
X-PUBLISHED-TTL:P3D
REFRESH-INTERVAL:P3D
CALSCALE:GREGORIAN
BEGIN:VEVENT
DTSTART:20180717T220000Z
DTEND:20180718T000000Z
X-MICROSOFT-CDO-ALLDAYEVENT:FALSE
SUMMARY:The Connection between Stress and Disease! Summit Community Health Beat
DESCRIPTION:Summit Community Health Beat\n\nThe Connectin between Stress and Disease!\n\n\n\nAre you over scheduled\, overworked and over tired?  Stephane Coates\, LPC with Cornerstone Counseling\, will discuss the relationship between stress and disease.  Learn how the stress load affects our body and get tips for achieving and maintaing balance in spite of life's demands.\n\n\n\nRegistration is required by phoning:  888-863-5502 or contact Trish Golden at 262-434-1248\n\n\n\nRegistration/light mal:  5 to 5:30\n\nPresentation:  5:30 to 7 p.m.
X-ALT-DESC;FMTTYPE=text/html:<div style="text-align: center\;"><strong>Summit Community Health Beat<br />\nThe Connectin between Stress and Disease!<br />\n<br />\nAre you over scheduled\, overworked and over tired?&nbsp\; Stephane Coates\, LPC with Cornerstone Counseling\, will discuss the relationship between stress and disease.&nbsp\; Learn how the stress load affects our body and get tips for achieving and maintaing balance in spite of life&#39\;s demands.<br />\n<br />\nRegistration is required by phoning:&nbsp\; 888-863-5502 or contact Trish Golden at 262-434-1248<br />\n<br />\nRegistration/light mal:&nbsp\; 5 to 5:30<br />\nPresentation:&nbsp\; 5:30 to 7 p.m.</strong><br />\n&nbsp\;</div>\n
LOCATION:Aurora Medical Center Summit Draper Hall 36500 Aurora Drive Summit\, WI
UID:e.522.137247
SEQUENCE:3
DTSTAMP:20260424T042138Z
URL:https://business.hartland-wi.org/events/details/the-connection-between-stress-and-disease-summit-community-health-beat-137247
END:VEVENT

END:VCALENDAR
