BEGIN:VCALENDAR
VERSION:2.0
PRODID:-//ChamberMaster//Event Calendar 2.0//EN
METHOD:PUBLISH
X-PUBLISHED-TTL:P3D
REFRESH-INTERVAL:P3D
CALSCALE:GREGORIAN
BEGIN:VEVENT
DTSTART:20160908T230000Z
DTEND:20160909T000000Z
X-MICROSOFT-CDO-ALLDAYEVENT:FALSE
SUMMARY:The Big Idea Workshop
DESCRIPTION:Our Big Idea Workshop is scheduled for Thursday September 8th at 6 p.m. at our office. If you have never been to one of our Big Idea Workshops\, this is an opportunity to attend and also invite a friend or loved one.\n\nWhat is the Big Idea anyway? The Big Idea is really about diving deep into the understanding of Specific Care\, and learning what separates us from General Chiropractic and General Medicine. It explains how we help sick people or people dealing with chronic conditions get well.\n\nWe will also be offering complimentary initial nervous system scans after the workshop for anyone desiring more information as to whether they might be a candidate for the type of care we provide.\nYou do not want you to miss out on this workshop! Please RSVP by sending us an email to lakecountry@thespecific.com
X-ALT-DESC;FMTTYPE=text/html:<p style="text-align:justify"><span style="background-color:transparent\; color:rgb(0\, 0\, 0)\; font-family:arial\; font-size:16px">Our Big Idea Workshop is scheduled for Thursday September 8th at 6 p.m. at our office. If you have never been to one of our Big Idea Workshops\, this is an opportunity to attend and also invite a friend or loved one.</span></p>\n\n<p style="text-align:justify"><span style="background-color:transparent\; color:rgb(0\, 0\, 0)\; font-family:arial\; font-size:16px">What is the Big Idea anyway? The Big Idea is really about diving deep into the understanding of Specific Care\, and learning what separates us from General Chiropractic and General Medicine. It explains how we help sick people or people dealing with chronic conditions get well.</span></p>\n\n<p style="text-align:justify"><span style="background-color:transparent\; color:rgb(0\, 0\, 0)\; font-family:arial\; font-size:16px">We will also be offering complimentary initial nervous system scans after the workshop for anyone desiring more information as to whether they might be a candidate for the type of care we provide.</span></p>\n<span style="background-color:transparent\; color:rgb(0\, 0\, 0)\; font-family:arial\; font-size:16px">You do not want you to miss out on this workshop! Please RSVP by sending us an email to lakecountry@thespecific.com</span>
LOCATION:The Specific Chiropractic Center 557 Cottonwood Ave Ste #101 Hartland\, WI 53029
UID:e.522.133823
SEQUENCE:3
DTSTAMP:20260422T150351Z
URL:https://business.hartland-wi.org/events/details/the-big-idea-workshop-133823
END:VEVENT

END:VCALENDAR
