BEGIN:VCALENDAR
VERSION:2.0
PRODID:-//ChamberMaster//Event Calendar 2.0//EN
METHOD:PUBLISH
X-PUBLISHED-TTL:P3D
REFRESH-INTERVAL:P3D
CALSCALE:GREGORIAN
BEGIN:VEVENT
DTSTART:20181120T230000Z
DTEND:20181121T010000Z
X-MICROSOFT-CDO-ALLDAYEVENT:FALSE
SUMMARY:The Basics: Memory Loss\, Dementia and Alzheimer's Disease
DESCRIPTION:Summit Community Health Beat\n\nThe Basics:  Memory Loss\, Dementia and Alzheimer's Disease\n\n\n\nThis program provides information that everyone should know about memory loss and what that means for all of us.  Explore memory loss\, dementia and Alzheimer's disease.  Learn about risk factors\, research\, treatments and steps to a proper diagnosis/assesment.  Join Jennifer Harders with Alzheimer's Association to learn more about this important topic.\n\n\n\nRegistration is required:  888-863-5502 or contact Trish Golden at 262-434-1248
X-ALT-DESC;FMTTYPE=text/html:<div style="text-align: center\;"><strong>Summit Community Health Beat<br />\nThe Basics:&nbsp\; Memory Loss\, Dementia and Alzheimer&#39\;s Disease<br />\n<br />\nThis program provides information that everyone should know about memory loss and what that means for all of us.&nbsp\; Explore memory loss\, dementia and Alzheimer&#39\;s disease.&nbsp\; Learn about risk factors\, research\, treatments and steps to a proper diagnosis/assesment.&nbsp\; Join Jennifer Harders with Alzheimer&#39\;s Association to learn more about this important topic.<br />\n<br />\nRegistration is required:&nbsp\; 888-863-5502 or contact Trish Golden at 262-434-1248</strong><br />\n&nbsp\;</div>\n
LOCATION:Aurora Medical Center Summit Draper Hall 36500 Aurora Drive Summit\, WI
UID:e.522.137478
SEQUENCE:3
DTSTAMP:20260424T103657Z
URL:https://business.hartland-wi.org/events/details/the-basics-memory-loss-dementia-and-alzheimer-s-disease-137478
END:VEVENT

END:VCALENDAR
