BEGIN:VCALENDAR
VERSION:2.0
PRODID:-//ChamberMaster//Event Calendar 2.0//EN
METHOD:PUBLISH
X-PUBLISHED-TTL:P3D
REFRESH-INTERVAL:P3D
CALSCALE:GREGORIAN
BEGIN:VEVENT
DTSTART:20141127T180000Z
DTEND:20141128T000000Z
X-MICROSOFT-CDO-ALLDAYEVENT:FALSE
SUMMARY:Thanksgiving at Seven Seas
DESCRIPTION:Thanksgiving at Seven Seas \n\n\n\nServing Family Style Thanksgiving Dinner\n\n12:00 noon - 6:00pm\n\n\n\nIncludes all of your Thanksgiving Favorites plus Dessert!\n\n$25.95 Adults\, $10.95 Kids\n\n\n\nCall 262-367-3903 for Reservations
X-ALT-DESC;FMTTYPE=text/html:<div style="text-align: center\;"><strong><u><span style="font-size: 16px\;"><span style="color: rgb(178\, 34\, 34)\;">Thanksgiving at Seven Seas</span> </span></u><br />\n<br />\n<span style="font-size: 16px\;">Serving Family Style Thanksgiving Dinner<br />\n12:00 noon - 6:00pm<br />\n<br />\nIncludes all of your Thanksgiving Favorites plus Dessert!<br />\n$25.95 Adults\, $10.95 Kids<br />\n<br />\nCall 262-367-3903 for Reservations</span></strong><br />\n&nbsp\;</div>\n
LOCATION:Weissgerber's Seven Seas
UID:e.522.133074
SEQUENCE:3
DTSTAMP:20260421T004329Z
URL:https://business.hartland-wi.org/events/details/thanksgiving-at-seven-seas-11-27-2014-133074
END:VEVENT

END:VCALENDAR
