BEGIN:VCALENDAR
VERSION:2.0
PRODID:-//ChamberMaster//Event Calendar 2.0//EN
METHOD:PUBLISH
X-PUBLISHED-TTL:P3D
REFRESH-INTERVAL:P3D
CALSCALE:GREGORIAN
BEGIN:VEVENT
DTSTART:20110505T003000Z
DTEND:20110505T013000Z
X-MICROSOFT-CDO-ALLDAYEVENT:FALSE
SUMMARY:Tai Chi Free Try It Class
DESCRIPTION:Free Tai Chi "Try It" Class with Isaac Yong Hou.  Yang style Tai Chi suitable for all ages and ability levels.
X-ALT-DESC;FMTTYPE=text/html:Free Tai Chi "Try It" Class with Isaac Yong Hou.  Yang style Tai Chi suitable for all ages and ability levels.
LOCATION:Lake Country Martial Arts 350 Cottonwood Ave
UID:e.522.131710
SEQUENCE:3
DTSTAMP:20260422T165103Z
URL:https://business.hartland-wi.org/events/details/tai-chi-free-try-it-class-05-04-2011-131710
END:VEVENT

END:VCALENDAR
