BEGIN:VCALENDAR
VERSION:2.0
PRODID:-//ChamberMaster//Event Calendar 2.0//EN
METHOD:PUBLISH
X-PUBLISHED-TTL:P3D
REFRESH-INTERVAL:P3D
CALSCALE:GREGORIAN
BEGIN:VEVENT
DTSTART;VALUE=DATE:20110212
DTEND;VALUE=DATE:20110213
TRANSP:TRANSPARENT
X-MICROSOFT-CDO-ALLDAYEVENT:TRUE
SUMMARY:Sweetheart Dance
DESCRIPTION:Celebrate Valentine's with your little sweetheart at this formal event full of dancing\, arts & crafts\, face painting\, cookie decorating\, a cake walk and inflatables.  Each sweetheart will receive a picture and homemade frame.\n\nPre-registration required.
X-ALT-DESC;FMTTYPE=text/html:Celebrate Valentine's with your little sweetheart at this formal event full of dancing\, arts &amp\; crafts\, face painting\, cookie decorating\, a cake walk and inflatables.  Each sweetheart will receive a picture and homemade frame.\n<br>Pre-registration required.
LOCATION:YMCA at Pabst Farms 1750 E. Valley Road\, Oconomowoc
UID:e.522.131414
SEQUENCE:3
DTSTAMP:20260422T221308Z
URL:https://business.hartland-wi.org/events/details/sweetheart-dance-02-12-2011-131414
END:VEVENT

END:VCALENDAR
