BEGIN:VCALENDAR
VERSION:2.0
PRODID:-//ChamberMaster//Event Calendar 2.0//EN
METHOD:PUBLISH
X-PUBLISHED-TTL:P3D
REFRESH-INTERVAL:P3D
CALSCALE:GREGORIAN
BEGIN:VEVENT
DTSTART:20190205T140000Z
DTEND:20190205T160000Z
X-MICROSOFT-CDO-ALLDAYEVENT:FALSE
SUMMARY:Summit Senior Breakfast: Signs & Symptoms of Heart Disease
DESCRIPTION:Summit Senior Breakfast Club\n\nSigns & Symptoms of Heart Disease\n\n\n\nHeart conditions may lead to congestive heart failure which occurs when your heart muscle doesn't pump blood as well as it should.  Megan Reid\, NP will address conditions\, such as narrowed arteries in your heart (coronary artery disease) or high blood pressure\, and provide treatment options to live more comfortably.\n\n\n\nRegistration is required by phoning:  888-863-5502 or contact Trish Golden at 262-434-1248
X-ALT-DESC;FMTTYPE=text/html:<div style="text-align: center\;"><strong>Summit Senior Breakfast Club<br />\nSigns &amp\; Symptoms of Heart Disease<br />\n<br />\nHeart conditions may lead to congestive heart failure which occurs when your heart muscle doesn&#39\;t pump blood as well as it should.&nbsp\; Megan Reid\, NP will address conditions\, such as narrowed arteries in your heart (coronary artery disease) or high blood pressure\, and provide treatment options to live more comfortably.<br />\n<br />\nRegistration is required by phoning:&nbsp\; 888-863-5502 or contact Trish Golden at 262-434-1248</strong><br />\n&nbsp\;</div>\n
LOCATION:Aurora Medical Center Summit
UID:e.522.137590
SEQUENCE:3
DTSTAMP:20260424T160707Z
URL:https://business.hartland-wi.org/events/details/summit-senior-breakfast-signs-symptoms-of-heart-disease-137590
END:VEVENT

END:VCALENDAR
