BEGIN:VCALENDAR
VERSION:2.0
PRODID:-//ChamberMaster//Event Calendar 2.0//EN
METHOD:PUBLISH
X-PUBLISHED-TTL:P3D
REFRESH-INTERVAL:P3D
CALSCALE:GREGORIAN
BEGIN:VEVENT
DTSTART:20190305T140000Z
DTEND:20190305T160000Z
X-MICROSOFT-CDO-ALLDAYEVENT:FALSE
SUMMARY:Summit Senior Breakfast Club: Senior Eye Health
DESCRIPTION:Summit Senior Breakfast Club\n\nSenior Eye Health\n\n\n\nAs people get older\, it is normal for their vision to change.  Join board certified ophthalmologist\, Spencer Rogers MD for a discussion on symptoms of vision loss\, cataracts\, glaucoma and age-related macular degeneration.\n\n\n\nTuesday\, March 5\, 2019\n\n8 to 10 am\n\n\n\nRegistration is required by phoning:  888-863-5502 or contact Trish Golden at 262-434-1248
X-ALT-DESC;FMTTYPE=text/html:<div style="text-align: center\;"><strong>Summit Senior Breakfast Club<br />\nSenior Eye Health<br />\n<br />\nAs people get older\, it is normal for their vision to change.&nbsp\; Join board certified ophthalmologist\, Spencer Rogers MD for a discussion on symptoms of vision loss\, cataracts\, glaucoma and age-related macular degeneration.<br />\n<br />\nTuesday\, March 5\, 2019<br />\n8 to 10 am<br />\n<br />\nRegistration is required by phoning:&nbsp\; 888-863-5502 or contact Trish Golden at 262-434-1248</strong><br />\n&nbsp\;</div>\n
LOCATION:Aurora Medical Center Summit
UID:e.522.137591
SEQUENCE:3
DTSTAMP:20260424T180850Z
URL:https://business.hartland-wi.org/events/details/summit-senior-breakfast-club-senior-eye-health-137591
END:VEVENT

END:VCALENDAR
