BEGIN:VCALENDAR
VERSION:2.0
PRODID:-//ChamberMaster//Event Calendar 2.0//EN
METHOD:PUBLISH
X-PUBLISHED-TTL:P3D
REFRESH-INTERVAL:P3D
CALSCALE:GREGORIAN
BEGIN:VEVENT
DTSTART:20190702T130000Z
DTEND:20190702T150000Z
X-MICROSOFT-CDO-ALLDAYEVENT:FALSE
SUMMARY:Summit Senior Breakfast Club: Hearing Loss: Types and Treatment Options
DESCRIPTION:Summit Senior Breakfast Club\n\nHearing Loss:  Types and Treatment Options\n\n\n\nAccording to the american Academy of audiology\, approximately 36 million Americans suffer from hearing loss.  Hearing connects u with:  family friends and sounds in our daily lives.  Join Dr. Janice Beaton for a presentation on understanding hearing loss\, what is hearing loss\, how it may affect our daily lives and what we can do about it.\n\nGradual hearing loss happens over time\, some of us are born with congentital or permanent hearing loss.\n\n\n\nSpace is limited!  Registration is required by phoning:  888-863-5502\, www.aurora.org/events or contact\n\nTrish Golden at 262-434-1248
X-ALT-DESC;FMTTYPE=text/html:<div style="text-align: center\;"><strong>Summit Senior Breakfast Club<br />\nHearing Loss:&nbsp\; Types and Treatment Options<br />\n<br />\nAccording to the american Academy of audiology\, approximately 36 million Americans suffer from hearing loss.&nbsp\; Hearing connects u with:&nbsp\; family friends and sounds in our daily lives.&nbsp\; Join Dr. Janice Beaton for a presentation on understanding hearing loss\, what is hearing loss\, how it may affect our daily lives and what we can do about it.<br />\nGradual hearing loss happens over time\, some of us are born with congentital or permanent hearing loss.<br />\n<br />\nSpace is limited!&nbsp\; Registration is required by phoning:&nbsp\; 888-863-5502\, www.aurora.org/events&nbsp\;or contact<br />\nTrish Golden at 262-434-1248</strong><br />\n&nbsp\;</div>\n
LOCATION:Aurora Medical Center Summit 36500 Aurora Drive Summit\, WI
UID:e.522.137777
SEQUENCE:3
DTSTAMP:20260425T010148Z
URL:https://business.hartland-wi.org/events/details/summit-senior-breakfast-club-hearing-loss-types-and-treatment-options-07-02-2019-137777
END:VEVENT

END:VCALENDAR
