BEGIN:VCALENDAR
VERSION:2.0
PRODID:-//ChamberMaster//Event Calendar 2.0//EN
METHOD:PUBLISH
X-PUBLISHED-TTL:P3D
REFRESH-INTERVAL:P3D
CALSCALE:GREGORIAN
BEGIN:VEVENT
DTSTART:20191105T140000Z
DTEND:20191105T160000Z
X-MICROSOFT-CDO-ALLDAYEVENT:FALSE
SUMMARY:Summit Senior Breakfast Club: Colo-rectal Cancer: Risk Factors\, Prevention and Screening Options.
DESCRIPTION:Summit Senior Breakfast Club\n\nColorectal Cancer:  Risk Factors\, Prevention and Screening Options\n\n\n\nThere's no sure way to prevent colorectal cancer.  But there are things you can do that might elp lower your risk.  Some risk factors\, like smoking and diet can be changed.  Others\, like a person's age or family history can't be changed.  Join Michael Strupp MD\, board certified in internal medicine and learn how both men and women can reduce their risk.\n\n\n\nRegistration is required by phoning:  888-863-5502 or 262-434-1248
X-ALT-DESC;FMTTYPE=text/html:<div style="text-align: center\;"><strong>Summit Senior Breakfast Club<br />\nColorectal Cancer:&nbsp\; Risk Factors\, Prevention and Screening Options<br />\n<br />\nThere&#39\;s no sure way to prevent colorectal cancer.&nbsp\; But there are things you can do that might elp lower your risk.&nbsp\; Some risk factors\, like smoking and diet can be changed.&nbsp\; Others\, like a person&#39\;s age or family history can&#39\;t be changed.&nbsp\; Join Michael Strupp MD\, board certified in internal medicine and learn how both men and women can reduce their risk.<br />\n<br />\nRegistration is required by phoning:&nbsp\; 888-863-5502 or 262-434-1248</strong><br />\n<br />\n&nbsp\;</div>\n
LOCATION:Aurora Medical Center Summit 36500 Aurora Drive Summit\, WI
UID:e.522.137819
SEQUENCE:3
DTSTAMP:20260426T030403Z
URL:https://business.hartland-wi.org/events/details/summit-senior-breakfast-club-colo-rectal-cancer-risk-factors-prevention-and-screening-options-137819
END:VEVENT

END:VCALENDAR
