BEGIN:VCALENDAR
VERSION:2.0
PRODID:-//ChamberMaster//Event Calendar 2.0//EN
METHOD:PUBLISH
X-PUBLISHED-TTL:P3D
REFRESH-INTERVAL:P3D
CALSCALE:GREGORIAN
BEGIN:VEVENT
DTSTART:20190806T130000Z
DTEND:20190806T150000Z
X-MICROSOFT-CDO-ALLDAYEVENT:FALSE
SUMMARY:Summit Senior Breakfast Club: Choosing and Cooking Foods for a Healthy Gut: Understanding Common Bowel Disorders
DESCRIPTION:Summit Senior Breakfast Club\n\nChoosing and Cooking Foods for a Healthy Gut:  Undestanding Common Bowel Disorders\n\n\n\nIrritable Bowel Disorders affects 1 in 10 Americans resulting in gas\, bloating\, cramping\, pain and alteration in bowel habits.  Food plays a major role in controlling IBS.  Learn about the FODMAP diet which modifies sugars and fibers in the diet to provide relief.  Amanda Motl\, RD will provide an overview on how to maintain a healthy gut through healthy eating.\n\n\n\nRegistration is required by phoning:  888-863-5502\, www.aurora.org/event or Trish Golden at 262-434-1248\n\n\n\nTuesday\,\n\nAugust 6\, 2019\n\n8-10 a.m.
X-ALT-DESC;FMTTYPE=text/html:<div style="text-align: center\;"><strong>Summit Senior Breakfast Club<br />\nChoosing and Cooking Foods for a Healthy Gut:&nbsp\; Undestanding Common Bowel Disorders<br />\n<br />\nIrritable Bowel Disorders affects 1 in 10 Americans resulting in gas\, bloating\, cramping\, pain and alteration in bowel habits.&nbsp\; Food plays a major role in controlling IBS.&nbsp\; Learn about the FODMAP diet which modifies sugars and fibers in the diet to provide relief.&nbsp\; Amanda Motl\, RD will provide an overview on how to maintain a healthy gut through healthy eating.<br />\n<br />\nRegistration is required by phoning:&nbsp\; 888-863-5502\, <a href="http://www.aurora.org/event">www.aurora.org/event</a> or Trish Golden at 262-434-1248<br />\n<br />\nTuesday\,<br />\nAugust 6\, 2019<br />\n8-10 a.m.</strong><br />\n&nbsp\;</div>\n
LOCATION:Aurora Medical Center Summit 36500 Aurora Drive Summit\, WI
UID:e.522.137778
SEQUENCE:3
DTSTAMP:20260425T024016Z
URL:https://business.hartland-wi.org/events/details/summit-senior-breakfast-club-choosing-and-cooking-foods-for-a-healthy-gut-understanding-common-bowel-disorders-137778
END:VEVENT

END:VCALENDAR
